BEGIN:VCALENDAR
VERSION:2.0
PRODID:-//Doral Soccer Club - ECPv6.15.20//NONSGML v1.0//EN
CALSCALE:GREGORIAN
METHOD:PUBLISH
X-WR-CALNAME:Doral Soccer Club
X-ORIGINAL-URL:https://www.doralsoccerclub.com
X-WR-CALDESC:Events for Doral Soccer Club
REFRESH-INTERVAL;VALUE=DURATION:PT1H
X-Robots-Tag:noindex
X-PUBLISHED-TTL:PT1H
BEGIN:VTIMEZONE
TZID:America/New_York
BEGIN:DAYLIGHT
TZOFFSETFROM:-0500
TZOFFSETTO:-0400
TZNAME:EDT
DTSTART:20250309T070000
END:DAYLIGHT
BEGIN:STANDARD
TZOFFSETFROM:-0400
TZOFFSETTO:-0500
TZNAME:EST
DTSTART:20251102T060000
END:STANDARD
BEGIN:DAYLIGHT
TZOFFSETFROM:-0500
TZOFFSETTO:-0400
TZNAME:EDT
DTSTART:20260308T070000
END:DAYLIGHT
BEGIN:STANDARD
TZOFFSETFROM:-0400
TZOFFSETTO:-0500
TZNAME:EST
DTSTART:20261101T060000
END:STANDARD
BEGIN:DAYLIGHT
TZOFFSETFROM:-0500
TZOFFSETTO:-0400
TZNAME:EDT
DTSTART:20270314T070000
END:DAYLIGHT
BEGIN:STANDARD
TZOFFSETFROM:-0400
TZOFFSETTO:-0500
TZNAME:EST
DTSTART:20271107T060000
END:STANDARD
END:VTIMEZONE
BEGIN:VEVENT
DTSTART;TZID=America/New_York:20260131T080000
DTEND;TZID=America/New_York:20260201T170000
DTSTAMP:20260421T183700
CREATED:20260126T182453Z
LAST-MODIFIED:20260126T182453Z
UID:12648-1769846400-1769965200@www.doralsoccerclub.com
SUMMARY:The 23rd Annual Dimitri Cup January 31 - February 1\, 2026
DESCRIPTION:The 23rd Annual Dimitri Cup January 31 – February 1\, 2026\nPremier Sports Campus Sarasota Florida\n \nDSC Teams participating\n\n \nU15 ECNL Coach Alfredo Del Toro\nU15 ECNL – RL Coach Wilfredo Melendez\nU15 Elite Coach Romulo Garcia\nU16 ECNL Coach Juan Sanfiel\nU16 ECNL – RL Coach Wilfredo Melendez\nU16 Elite Coach Miguel Heredia\nU16 Premier Coach Carlos Delgado\nU17 ECNL – RL Coach Christian Lopez\nU17 Elite Coach Ramon Gonzalez\nU17 Premier Coach Ricardo Arzola\nU19 ECNL – RL Coach Christian Lopez\nU19 Elite Coach Miguel Heredia\n \nSchedule click here\n 
URL:https://www.doralsoccerclub.com/event/the-23rd-annual-dimitri-cup-january-31-february-1-2026/
CATEGORIES:Tournaments,Tournaments Slideshow
ATTACH;FMTTYPE=image/jpeg:https://www.doralsoccerclub.com/wp-content/uploads/2020/01/Dimitri-Cup-Doral-Soccer.jpg
END:VEVENT
END:VCALENDAR