BEGIN:VCALENDAR
VERSION:2.0
PRODID:-//Doral Soccer Club - ECPv6.15.20//NONSGML v1.0//EN
CALSCALE:GREGORIAN
METHOD:PUBLISH
X-ORIGINAL-URL:https://www.doralsoccerclub.com
X-WR-CALDESC:Events for Doral Soccer Club
REFRESH-INTERVAL;VALUE=DURATION:PT1H
X-Robots-Tag:noindex
X-PUBLISHED-TTL:PT1H
BEGIN:VTIMEZONE
TZID:America/New_York
BEGIN:DAYLIGHT
TZOFFSETFROM:-0500
TZOFFSETTO:-0400
TZNAME:EDT
DTSTART:20240310T070000
END:DAYLIGHT
BEGIN:STANDARD
TZOFFSETFROM:-0400
TZOFFSETTO:-0500
TZNAME:EST
DTSTART:20241103T060000
END:STANDARD
BEGIN:DAYLIGHT
TZOFFSETFROM:-0500
TZOFFSETTO:-0400
TZNAME:EDT
DTSTART:20250309T070000
END:DAYLIGHT
BEGIN:STANDARD
TZOFFSETFROM:-0400
TZOFFSETTO:-0500
TZNAME:EST
DTSTART:20251102T060000
END:STANDARD
BEGIN:DAYLIGHT
TZOFFSETFROM:-0500
TZOFFSETTO:-0400
TZNAME:EDT
DTSTART:20260308T070000
END:DAYLIGHT
BEGIN:STANDARD
TZOFFSETFROM:-0400
TZOFFSETTO:-0500
TZNAME:EST
DTSTART:20261101T060000
END:STANDARD
END:VTIMEZONE
BEGIN:VEVENT
DTSTART;TZID=America/New_York:20251212T080000
DTEND;TZID=America/New_York:20251214T170000
DTSTAMP:20260421T214113
CREATED:20251212T005914Z
LAST-MODIFIED:20251212T005914Z
UID:12575-1765526400-1765731600@www.doralsoccerclub.com
SUMMARY:Springs Holiday Cup - December 12-14\, 2025 
DESCRIPTION:DSC Teams participants:\n \nU8 Elite Coach Jose Daniel Usme\nU10 Premier Coach Ramon Gonzalez\nU10 White Coach Carlos Delgado\nU11 Premier Coach Jesus Adrian Parra\nU12 White Coach Romulo Garcia\nU14 Elite Coach Ricardo Arzola\nU14 Premier Coach José Daniel Usme\nU15 ECNL RL Coach Wilfredo Meléndez\nU15 Elite Coach Romulo Garcia\n \nSchedules click here\n \n 
URL:https://www.doralsoccerclub.com/event/springs-holiday-cup-december-12-14-2025/
CATEGORIES:Tournaments,Tournaments Slideshow
ATTACH;FMTTYPE=image/jpeg:https://www.doralsoccerclub.com/wp-content/uploads/2025/12/spring-holiday-cup.jpg
END:VEVENT
END:VCALENDAR