BEGIN:VCALENDAR
VERSION:2.0
PRODID:-//Doral Soccer Club - ECPv6.15.20//NONSGML v1.0//EN
CALSCALE:GREGORIAN
METHOD:PUBLISH
X-ORIGINAL-URL:https://www.doralsoccerclub.com
X-WR-CALDESC:Events for Doral Soccer Club
REFRESH-INTERVAL;VALUE=DURATION:PT1H
X-Robots-Tag:noindex
X-PUBLISHED-TTL:PT1H
BEGIN:VTIMEZONE
TZID:America/New_York
BEGIN:DAYLIGHT
TZOFFSETFROM:-0500
TZOFFSETTO:-0400
TZNAME:EDT
DTSTART:20240310T070000
END:DAYLIGHT
BEGIN:STANDARD
TZOFFSETFROM:-0400
TZOFFSETTO:-0500
TZNAME:EST
DTSTART:20241103T060000
END:STANDARD
BEGIN:DAYLIGHT
TZOFFSETFROM:-0500
TZOFFSETTO:-0400
TZNAME:EDT
DTSTART:20250309T070000
END:DAYLIGHT
BEGIN:STANDARD
TZOFFSETFROM:-0400
TZOFFSETTO:-0500
TZNAME:EST
DTSTART:20251102T060000
END:STANDARD
BEGIN:DAYLIGHT
TZOFFSETFROM:-0500
TZOFFSETTO:-0400
TZNAME:EDT
DTSTART:20260308T070000
END:DAYLIGHT
BEGIN:STANDARD
TZOFFSETFROM:-0400
TZOFFSETTO:-0500
TZNAME:EST
DTSTART:20261101T060000
END:STANDARD
END:VTIMEZONE
BEGIN:VEVENT
DTSTART;TZID=America/New_York:20250404T080000
DTEND;TZID=America/New_York:20250406T170000
DTSTAMP:20260422T102149
CREATED:20250331T210840Z
LAST-MODIFIED:20250331T211209Z
UID:11954-1743753600-1743958800@www.doralsoccerclub.com
SUMMARY:The 9th Annual Sharks Soccer Cup & Showcase  April 4 - 6\, 2025
DESCRIPTION:Doral Soccer Club Teams participating:\n \nU9 Elite Coach Junior Piraquive\nU9 Premier Coach Ramon Gonzalez\nU10 Premier Coach Jesus Adrian Parra\nU11 Premier Coach Carlos Delgado\nU11 White Coach Junior Piraquive\nU12 Elite Coach Wilfredo Melendez\nU14 Premier Coach Jose Daniel Usme\nU15 Girls Elite Coach Junior Piraquive\nU15 Premier Coach Romulo Garcia\nU16 Premier Coach Ramon Gonzalez\nU17 White Coach Carlos Delgado\n \nSchedules click here\n \n 
URL:https://www.doralsoccerclub.com/event/the-9th-annual-sharks-soccer-cup-showcase-april-4-6-2025/
CATEGORIES:Tournaments,Tournaments Slideshow
ATTACH;FMTTYPE=image/jpeg:https://www.doralsoccerclub.com/wp-content/uploads/2021/03/Sharks-Soccer-Cup-Showcase.jpg
END:VEVENT
BEGIN:VEVENT
DTSTART;TZID=America/New_York:20250416T080000
DTEND;TZID=America/New_York:20250419T170000
DTSTAMP:20260422T102149
CREATED:20250416T172246Z
LAST-MODIFIED:20250416T172246Z
UID:11989-1744790400-1745082000@www.doralsoccerclub.com
SUMMARY:5th Annual Easter International Cup April 16- 19\, 2025 Orlando / Kissimmee Florida
DESCRIPTION:Doral Soccer Club teams participating\n \nU11 Elite Coach Antonello Paradiso\n \nSchedules click here\n \n 
URL:https://www.doralsoccerclub.com/event/5th-annual-easter-international-cup-april-16-19-2025-orlando-kissimmee-florida/
CATEGORIES:Tournaments,Tournaments Slideshow
ATTACH;FMTTYPE=image/png:https://www.doralsoccerclub.com/wp-content/uploads/2025/04/EASTERN-INTERNATION-CUP-DORAL-SOCCER.png
END:VEVENT
END:VCALENDAR