BEGIN:VCALENDAR
VERSION:2.0
PRODID:-//Doral Soccer Club - ECPv6.15.20//NONSGML v1.0//EN
CALSCALE:GREGORIAN
METHOD:PUBLISH
X-ORIGINAL-URL:https://www.doralsoccerclub.com
X-WR-CALDESC:Events for Doral Soccer Club
REFRESH-INTERVAL;VALUE=DURATION:PT1H
X-Robots-Tag:noindex
X-PUBLISHED-TTL:PT1H
BEGIN:VTIMEZONE
TZID:America/New_York
BEGIN:DAYLIGHT
TZOFFSETFROM:-0500
TZOFFSETTO:-0400
TZNAME:EDT
DTSTART:20240310T070000
END:DAYLIGHT
BEGIN:STANDARD
TZOFFSETFROM:-0400
TZOFFSETTO:-0500
TZNAME:EST
DTSTART:20241103T060000
END:STANDARD
BEGIN:DAYLIGHT
TZOFFSETFROM:-0500
TZOFFSETTO:-0400
TZNAME:EDT
DTSTART:20250309T070000
END:DAYLIGHT
BEGIN:STANDARD
TZOFFSETFROM:-0400
TZOFFSETTO:-0500
TZNAME:EST
DTSTART:20251102T060000
END:STANDARD
BEGIN:DAYLIGHT
TZOFFSETFROM:-0500
TZOFFSETTO:-0400
TZNAME:EDT
DTSTART:20260308T070000
END:DAYLIGHT
BEGIN:STANDARD
TZOFFSETFROM:-0400
TZOFFSETTO:-0500
TZNAME:EST
DTSTART:20261101T060000
END:STANDARD
END:VTIMEZONE
BEGIN:VEVENT
DTSTART;TZID=America/New_York:20250117T080000
DTEND;TZID=America/New_York:20250120T170000
DTSTAMP:20260422T175247
CREATED:20250114T200246Z
LAST-MODIFIED:20250114T200246Z
UID:11797-1737100800-1737392400@www.doralsoccerclub.com
SUMMARY:18th Annual Wellington Soccer Cup - January 17 -20\, 2025
DESCRIPTION:Doral Soccer Club teams participating\n \nU13 ECNL Coach Kevin Piraquive\nU16 Elite Coach Daniel Castillo\n \nSchedules click here\n \n 
URL:https://www.doralsoccerclub.com/event/18th-annual-wellington-soccer-cup-january-17-20-2025/
CATEGORIES:Tournaments
ATTACH;FMTTYPE=image/png:https://www.doralsoccerclub.com/wp-content/uploads/2025/01/wellingtone-soccer-shootout.png
END:VEVENT
BEGIN:VEVENT
DTSTART;TZID=America/New_York:20250118T080000
DTEND;TZID=America/New_York:20250120T170000
DTSTAMP:20260422T175247
CREATED:20250112T154945Z
LAST-MODIFIED:20250112T154945Z
UID:11794-1737187200-1737392400@www.doralsoccerclub.com
SUMMARY:The 22nd Annual Dimitri Cup January 18-20\, 2025 Lakewood Ranch\, Florida
DESCRIPTION:Doral Soccer Club Teams participating:\n \n\nU8 Elite Coach Jose Daniel Usme\nU9 Elite Coach Beymar “JR” Piraquive\nU9 Premier Coach Ramon Gonzalez\nU10 Elite Coach Carlos Fonseca\nU10 Premier Coach Jesus Adrian Parra\nU11 Elite Coach Antonello Paradiso\nU11 Premier Coach Carlos Delgado\nU11 White Coach Beymar “JR” Piraquive\nU12 Elite Coach Wilfredo Melendez\nU12 Premier Coach Ser4gio Lopez\nU12 White Coach Jesus Adrian Parra\n\n \nSchedules click here\n \n 
URL:https://www.doralsoccerclub.com/event/the-22nd-annual-dimitri-cup-january-18-20-2025-lakewood-ranch-florida/
LOCATION:Lakewood Ranch\, Florida\, 5895 post blvd\, Lakewood Ranch\, FL\, 34211\, United States
CATEGORIES:Tournaments
ATTACH;FMTTYPE=image/jpeg:https://www.doralsoccerclub.com/wp-content/uploads/2020/01/Dimitri-Cup-Doral-Soccer.jpg
END:VEVENT
BEGIN:VEVENT
DTSTART;TZID=America/New_York:20250118T080000
DTEND;TZID=America/New_York:20250120T170000
DTSTAMP:20260422T175247
CREATED:20250114T200435Z
LAST-MODIFIED:20250114T200435Z
UID:11800-1737187200-1737392400@www.doralsoccerclub.com
SUMMARY:Miami Rush Cup January 18-20\, 2025
DESCRIPTION:Doral Soccer Club teams participating;\n \nU13 Elite Coach Daniel Castillo\nU13 Premier Coach Ricardo Arzola\nU15 ECNL Coach Juan Sanfiel\nU15 Elite Coach Juan Sanfiel\n \nSchedule Click here
URL:https://www.doralsoccerclub.com/event/miami-rush-cup-january-18-20-2025/
CATEGORIES:Tournaments
ATTACH;FMTTYPE=image/jpeg:https://www.doralsoccerclub.com/wp-content/uploads/2024/01/Miami-Rush-Kendall.jpg
END:VEVENT
END:VCALENDAR