BEGIN:VCALENDAR
VERSION:2.0
PRODID:-//Doral Soccer Club - ECPv6.15.20//NONSGML v1.0//EN
CALSCALE:GREGORIAN
METHOD:PUBLISH
X-ORIGINAL-URL:https://www.doralsoccerclub.com
X-WR-CALDESC:Events for Doral Soccer Club
REFRESH-INTERVAL;VALUE=DURATION:PT1H
X-Robots-Tag:noindex
X-PUBLISHED-TTL:PT1H
BEGIN:VTIMEZONE
TZID:America/New_York
BEGIN:DAYLIGHT
TZOFFSETFROM:-0500
TZOFFSETTO:-0400
TZNAME:EDT
DTSTART:20240310T070000
END:DAYLIGHT
BEGIN:STANDARD
TZOFFSETFROM:-0400
TZOFFSETTO:-0500
TZNAME:EST
DTSTART:20241103T060000
END:STANDARD
BEGIN:DAYLIGHT
TZOFFSETFROM:-0500
TZOFFSETTO:-0400
TZNAME:EDT
DTSTART:20250309T070000
END:DAYLIGHT
BEGIN:STANDARD
TZOFFSETFROM:-0400
TZOFFSETTO:-0500
TZNAME:EST
DTSTART:20251102T060000
END:STANDARD
BEGIN:DAYLIGHT
TZOFFSETFROM:-0500
TZOFFSETTO:-0400
TZNAME:EDT
DTSTART:20260308T070000
END:DAYLIGHT
BEGIN:STANDARD
TZOFFSETFROM:-0400
TZOFFSETTO:-0500
TZNAME:EST
DTSTART:20261101T060000
END:STANDARD
END:VTIMEZONE
BEGIN:VEVENT
DTSTART;TZID=America/New_York:20250919T080000
DTEND;TZID=America/New_York:20250921T170000
DTSTAMP:20260422T032105
CREATED:20250918T171029Z
LAST-MODIFIED:20250918T171347Z
UID:12428-1758268800-1758474000@www.doralsoccerclub.com
SUMMARY:The 14th Annual United Soccer Cup
DESCRIPTION:September 19 – 21\, 2025\nDSC Teams participating\nU10 Premier Coach Ramon Gonzalez\nU14 Premier Coach Jose Daniel Usme\n \nSchedules click here
URL:https://www.doralsoccerclub.com/event/the-14th-annual-united-soccer-cup/
CATEGORIES:Tournaments,Tournaments Slideshow
ATTACH;FMTTYPE=image/png:https://www.doralsoccerclub.com/wp-content/uploads/2025/09/United-Socce-Cup-Logo.png
END:VEVENT
END:VCALENDAR