BEGIN:VCALENDAR
VERSION:2.0
PRODID:-//Doral Soccer Club - ECPv6.15.20//NONSGML v1.0//EN
CALSCALE:GREGORIAN
METHOD:PUBLISH
X-WR-CALNAME:Doral Soccer Club
X-ORIGINAL-URL:https://www.doralsoccerclub.com
X-WR-CALDESC:Events for Doral Soccer Club
REFRESH-INTERVAL;VALUE=DURATION:PT1H
X-Robots-Tag:noindex
X-PUBLISHED-TTL:PT1H
BEGIN:VTIMEZONE
TZID:America/New_York
BEGIN:DAYLIGHT
TZOFFSETFROM:-0500
TZOFFSETTO:-0400
TZNAME:EDT
DTSTART:20240310T070000
END:DAYLIGHT
BEGIN:STANDARD
TZOFFSETFROM:-0400
TZOFFSETTO:-0500
TZNAME:EST
DTSTART:20241103T060000
END:STANDARD
BEGIN:DAYLIGHT
TZOFFSETFROM:-0500
TZOFFSETTO:-0400
TZNAME:EDT
DTSTART:20250309T070000
END:DAYLIGHT
BEGIN:STANDARD
TZOFFSETFROM:-0400
TZOFFSETTO:-0500
TZNAME:EST
DTSTART:20251102T060000
END:STANDARD
BEGIN:DAYLIGHT
TZOFFSETFROM:-0500
TZOFFSETTO:-0400
TZNAME:EDT
DTSTART:20260308T070000
END:DAYLIGHT
BEGIN:STANDARD
TZOFFSETFROM:-0400
TZOFFSETTO:-0500
TZNAME:EST
DTSTART:20261101T060000
END:STANDARD
END:VTIMEZONE
BEGIN:VEVENT
DTSTART;TZID=America/New_York:20251017T080000
DTEND;TZID=America/New_York:20251019T170000
DTSTAMP:20260422T011840
CREATED:20251014T174934Z
LAST-MODIFIED:20251014T174947Z
UID:12516-1760688000-1760893200@www.doralsoccerclub.com
SUMMARY:Palm Beach Gardens Fall - October 17 - 19\, 2025
DESCRIPTION:DSC team participating:\nU14 Premier Coach Jose Daniel Usme\nSchedules click here
URL:https://www.doralsoccerclub.com/event/palm-beach-gardens-fall-october-17-19-2025/
CATEGORIES:Tournaments,Tournaments Slideshow
ATTACH;FMTTYPE=image/png:https://www.doralsoccerclub.com/wp-content/uploads/2025/10/PalmBeachClassic.png
END:VEVENT
END:VCALENDAR