BEGIN:VCALENDAR
VERSION:2.0
PRODID:-//Doral Soccer Club - ECPv6.15.20//NONSGML v1.0//EN
CALSCALE:GREGORIAN
METHOD:PUBLISH
X-WR-CALNAME:Doral Soccer Club
X-ORIGINAL-URL:https://www.doralsoccerclub.com
X-WR-CALDESC:Events for Doral Soccer Club
REFRESH-INTERVAL;VALUE=DURATION:PT1H
X-Robots-Tag:noindex
X-PUBLISHED-TTL:PT1H
BEGIN:VTIMEZONE
TZID:America/New_York
BEGIN:DAYLIGHT
TZOFFSETFROM:-0500
TZOFFSETTO:-0400
TZNAME:EDT
DTSTART:20250309T070000
END:DAYLIGHT
BEGIN:STANDARD
TZOFFSETFROM:-0400
TZOFFSETTO:-0500
TZNAME:EST
DTSTART:20251102T060000
END:STANDARD
BEGIN:DAYLIGHT
TZOFFSETFROM:-0500
TZOFFSETTO:-0400
TZNAME:EDT
DTSTART:20260308T070000
END:DAYLIGHT
BEGIN:STANDARD
TZOFFSETFROM:-0400
TZOFFSETTO:-0500
TZNAME:EST
DTSTART:20261101T060000
END:STANDARD
BEGIN:DAYLIGHT
TZOFFSETFROM:-0500
TZOFFSETTO:-0400
TZNAME:EDT
DTSTART:20270314T070000
END:DAYLIGHT
BEGIN:STANDARD
TZOFFSETFROM:-0400
TZOFFSETTO:-0500
TZNAME:EST
DTSTART:20271107T060000
END:STANDARD
END:VTIMEZONE
BEGIN:VEVENT
DTSTART;TZID=America/New_York:20260124T080000
DTEND;TZID=America/New_York:20260125T170000
DTSTAMP:20260421T200118
CREATED:20260122T203819Z
LAST-MODIFIED:20260122T203819Z
UID:12646-1769241600-1769360400@www.doralsoccerclub.com
SUMMARY:The 23rd Annual Dimitri Cup January 24 - 25\, 2026
DESCRIPTION:The 23rd Annual Dimitri Cup January 24 – 25\, 2026\nPremier Sports Campus Sarasota Florida\n \nDSC Teams participating\n \nU13 ECNL Coach Juan Sanfiel\nU13 ECNL RL Coach Antonello Paradiso\nU13 Elite Coach Jesus Adrian Parra\nU14 ECNL Coach Kevin Piraquive\nU14 ECNL RL Coach Daniel Castillo\nU14 Elite Coach Ricardo Arzola\nU14 Premier Coach Jose Daniel Usme\n \nSchedules click here\n \n \n 
URL:https://www.doralsoccerclub.com/event/the-23rd-annual-dimitri-cup-january-24-25-2026/
CATEGORIES:Tournaments,Tournaments Slideshow
ATTACH;FMTTYPE=image/jpeg:https://www.doralsoccerclub.com/wp-content/uploads/2020/01/Dimitri-Cup-Doral-Soccer.jpg
END:VEVENT
END:VCALENDAR