BEGIN:VCALENDAR
VERSION:2.0
PRODID:-//Doral Soccer Club - ECPv6.15.20//NONSGML v1.0//EN
CALSCALE:GREGORIAN
METHOD:PUBLISH
X-WR-CALNAME:Doral Soccer Club
X-ORIGINAL-URL:https://www.doralsoccerclub.com
X-WR-CALDESC:Events for Doral Soccer Club
REFRESH-INTERVAL;VALUE=DURATION:PT1H
X-Robots-Tag:noindex
X-PUBLISHED-TTL:PT1H
BEGIN:VTIMEZONE
TZID:America/New_York
BEGIN:DAYLIGHT
TZOFFSETFROM:-0500
TZOFFSETTO:-0400
TZNAME:EDT
DTSTART:20250309T070000
END:DAYLIGHT
BEGIN:STANDARD
TZOFFSETFROM:-0400
TZOFFSETTO:-0500
TZNAME:EST
DTSTART:20251102T060000
END:STANDARD
BEGIN:DAYLIGHT
TZOFFSETFROM:-0500
TZOFFSETTO:-0400
TZNAME:EDT
DTSTART:20260308T070000
END:DAYLIGHT
BEGIN:STANDARD
TZOFFSETFROM:-0400
TZOFFSETTO:-0500
TZNAME:EST
DTSTART:20261101T060000
END:STANDARD
BEGIN:DAYLIGHT
TZOFFSETFROM:-0500
TZOFFSETTO:-0400
TZNAME:EDT
DTSTART:20270314T070000
END:DAYLIGHT
BEGIN:STANDARD
TZOFFSETFROM:-0400
TZOFFSETTO:-0500
TZNAME:EST
DTSTART:20271107T060000
END:STANDARD
END:VTIMEZONE
BEGIN:VEVENT
DTSTART;TZID=America/New_York:20260323T080000
DTEND;TZID=America/New_York:20260327T170000
DTSTAMP:20260421T182308
CREATED:20260316T234728Z
LAST-MODIFIED:20260316T234728Z
UID:12736-1774252800-1774630800@www.doralsoccerclub.com
SUMMARY:ACADEMY • NO PRACTICE
DESCRIPTION:Academy Notice:  \nNO PRACTICE MARCH 23-27 \nDue to SPRING BREAK
URL:https://www.doralsoccerclub.com/event/academy-no-practice/
CATEGORIES:Academy Teams
ATTACH;FMTTYPE=image/png:https://www.doralsoccerclub.com/wp-content/uploads/2025/09/DSC-S-LOGO.png
END:VEVENT
BEGIN:VEVENT
DTSTART;TZID=America/New_York:20260401T080000
DTEND;TZID=America/New_York:20260405T170000
DTSTAMP:20260421T182308
CREATED:20260331T212407Z
LAST-MODIFIED:20260331T212710Z
UID:12744-1775030400-1775408400@www.doralsoccerclub.com
SUMMARY:6th Annual Easter International Cup
DESCRIPTION:6th Annual Easter International Cup\nApril 1 – 5\, 2026 Orlando / Kissimmee Florida\n \nDoral Soccer Club Team participating: \nU10 Elite Coach Beymar Piraquive “Jr” \n \nSchedules click here\n \n 
URL:https://www.doralsoccerclub.com/event/6th-annual-easter-international-cup/
CATEGORIES:Tournaments,Tournaments Slideshow
ATTACH;FMTTYPE=image/jpeg:https://www.doralsoccerclub.com/wp-content/uploads/2026/03/Easter-International-Cup-Rayados.jpg
END:VEVENT
BEGIN:VEVENT
DTSTART;TZID=America/New_York:20260410T080000
DTEND;TZID=America/New_York:20260412T170000
DTSTAMP:20260421T182308
CREATED:20260406T144158Z
LAST-MODIFIED:20260406T144158Z
UID:12752-1775808000-1776013200@www.doralsoccerclub.com
SUMMARY:The 10th Annual Sharks Soccer Cup & Showcase
DESCRIPTION:April 10-12\, 2026 \nDoral Soccer Club Teams participating:\n \nU8 Elite Coach Jose Daniel Usme\nU10 Premier Coach Ramon Gonzalez\nU10 White Coach Carlos Delgado\nU11 Premier Coach Jesus Adrian Parra\nU12 Premier Coach Beymar Piraquive “Jr”\nU14 Premier Coach Jose Daniel Usme\nU16 Elite Girls Coach Beymar Piraquive “Jr”\nU16 Premier Coach Carlos Delgado\nU17 Elite Coach Ramos Gonzalez \n \nSchedules click here\n \n 
URL:https://www.doralsoccerclub.com/event/the-10th-annual-sharks-soccer-cup-showcase/
CATEGORIES:Tournaments,Tournaments Slideshow
ATTACH;FMTTYPE=image/jpeg:https://www.doralsoccerclub.com/wp-content/uploads/2021/03/Sharks-Soccer-Cup-Showcase.jpg
END:VEVENT
BEGIN:VEVENT
DTSTART;TZID=America/New_York:20260425T080000
DTEND;TZID=America/New_York:20260426T170000
DTSTAMP:20260421T182308
CREATED:20260421T174511Z
LAST-MODIFIED:20260421T174511Z
UID:12813-1777104000-1777222800@www.doralsoccerclub.com
SUMMARY:South Florida Soccer Cup & Showcase
DESCRIPTION:April 25-26\, 2026 \nDSC teams participating \n \nU9 Elite Coach Carlos Fonseca\nU14 ECNL RL Coach Daniel Castillo\nU17 ECNL RL Coach Christian Lopez\n \nSchedules click here
URL:https://www.doralsoccerclub.com/event/south-florida-soccer-cup-showcase-2/
CATEGORIES:Tournaments
ATTACH;FMTTYPE=image/png:https://www.doralsoccerclub.com/wp-content/uploads/2024/04/South-Florida-Soccer.png
END:VEVENT
END:VCALENDAR