BEGIN:VCALENDAR
VERSION:2.0
PRODID:-//Doral Soccer Club - ECPv6.15.20//NONSGML v1.0//EN
CALSCALE:GREGORIAN
METHOD:PUBLISH
X-WR-CALNAME:Doral Soccer Club
X-ORIGINAL-URL:https://www.doralsoccerclub.com
X-WR-CALDESC:Events for Doral Soccer Club
REFRESH-INTERVAL;VALUE=DURATION:PT1H
X-Robots-Tag:noindex
X-PUBLISHED-TTL:PT1H
BEGIN:VTIMEZONE
TZID:America/New_York
BEGIN:DAYLIGHT
TZOFFSETFROM:-0500
TZOFFSETTO:-0400
TZNAME:EDT
DTSTART:20230312T070000
END:DAYLIGHT
BEGIN:STANDARD
TZOFFSETFROM:-0400
TZOFFSETTO:-0500
TZNAME:EST
DTSTART:20231105T060000
END:STANDARD
BEGIN:DAYLIGHT
TZOFFSETFROM:-0500
TZOFFSETTO:-0400
TZNAME:EDT
DTSTART:20240310T070000
END:DAYLIGHT
BEGIN:STANDARD
TZOFFSETFROM:-0400
TZOFFSETTO:-0500
TZNAME:EST
DTSTART:20241103T060000
END:STANDARD
BEGIN:DAYLIGHT
TZOFFSETFROM:-0500
TZOFFSETTO:-0400
TZNAME:EDT
DTSTART:20250309T070000
END:DAYLIGHT
BEGIN:STANDARD
TZOFFSETFROM:-0400
TZOFFSETTO:-0500
TZNAME:EST
DTSTART:20251102T060000
END:STANDARD
BEGIN:DAYLIGHT
TZOFFSETFROM:-0500
TZOFFSETTO:-0400
TZNAME:EDT
DTSTART:20260308T070000
END:DAYLIGHT
BEGIN:STANDARD
TZOFFSETFROM:-0400
TZOFFSETTO:-0500
TZNAME:EST
DTSTART:20261101T060000
END:STANDARD
END:VTIMEZONE
BEGIN:VEVENT
DTSTART;TZID=America/New_York:20250524T080000
DTEND;TZID=America/New_York:20250526T170000
DTSTAMP:20260421T215955
CREATED:20250520T185325Z
LAST-MODIFIED:20250520T211303Z
UID:12135-1748073600-1748278800@www.doralsoccerclub.com
SUMMARY:Disney Memorial Day Soccer Tournament May 24 - 26\, 2025
DESCRIPTION:Doral Soccer Club Team participating\n \nU13 Premier Coach Ricardo Arzola\n \nSchedule click here
URL:https://www.doralsoccerclub.com/event/disney-memorial-day-soccer-tournament-may-24-26-2025/
CATEGORIES:Tournaments,Tournaments Slideshow
ATTACH;FMTTYPE=image/jpeg:https://www.doralsoccerclub.com/wp-content/uploads/2022/05/Doral-Soccer-Disney-Memorial-Day-Sorrcer-Tournament-copy.jpg
END:VEVENT
BEGIN:VEVENT
DTSTART;TZID=America/New_York:20250523T080000
DTEND;TZID=America/New_York:20250526T170000
DTSTAMP:20260421T215955
CREATED:20250521T033534Z
LAST-MODIFIED:20250521T033732Z
UID:12145-1747987200-1748278800@www.doralsoccerclub.com
SUMMARY:Enigma Cup 2025
DESCRIPTION:The International Youth Soccer Tournament\nMay 23 – 26\, 2025 – Weston Florida\nDoral Soccer Club Team Participating: \nU9 Elite Coach Beymar Jr Piraquive\nU10 Premier Coach Jesus Adrian Parra\nU11 White Coach Beymar Jr Piraquive\nU12 White Coach Jesus Adrian Parra\nU14 Elite Coach Sergio Lopez\nU15 Elite Coach Juan Sanfiel\nU15 Elite Girls Coach Beymar Jr Piraquive\n \nSchedules click here
URL:https://www.doralsoccerclub.com/event/enigma-cup-2025/
CATEGORIES:Tournaments,Tournaments Slideshow
ATTACH;FMTTYPE=image/png:https://www.doralsoccerclub.com/wp-content/uploads/2024/05/ENIGMA-CUP-DORAL-SOCCER.png
END:VEVENT
BEGIN:VEVENT
DTSTART;TZID=America/New_York:20250523T080000
DTEND;TZID=America/New_York:20250526T170000
DTSTAMP:20260421T215955
CREATED:20250520T184301Z
LAST-MODIFIED:20250520T184702Z
UID:12130-1747987200-1748278800@www.doralsoccerclub.com
SUMMARY:Dreams Cup Inter Miami
DESCRIPTION:The Dreams Cup – Memorial Day May 23 – 26\, 2025\n \nDoral Soccer Club Teams participating\n \nU8 Elite Coach José Daniel Usme\nU9 Premier Coach Ramon Gonzalez\nU10 Elite Coach Carlos Fonseca\nU11 Elite Coach Antonello Paradiso\nU11 Premier Coach Carlos Delgado\nU12 Elite Coach Wilfredo Melendez\nU12 Premier Coach Sergio Lopez\nU13 ECNL RL Coach Kevin Piraquive\nU13 Elite Coach Daniel Castillo\nU14 ECNL RL Coach Antonello Paradiso\nU14 Premier Coach José Daniel Usme\nU15 ECNL RL Coach Juan Sanfiel\nU15 Premier Coach Romulo Garcia\nU16 ECNL RL Coach Alfredo Del Toro\nU16 Elite Coach Daniel Castillo\nU16 Premier Coach Ramon Gonzalez\nU17 ECNL RL Coach Kevin Piraquive\nU17 Elite Coach Wilfredo Melendez\nU17 Premier Coach Miguel Heredia\nU17 White Coach Carlos Delgado\nU19 ECNL RL Coach Alfredo Del Toro\nU19 Premier Coach Miguel Heredia\n \nSchedules click here\n \n \n \n 
URL:https://www.doralsoccerclub.com/event/torneo-dreams-cup-inter-miami/
CATEGORIES:Tournaments,Tournaments Slideshow
ATTACH;FMTTYPE=image/png:https://www.doralsoccerclub.com/wp-content/uploads/2025/05/Dreams-Cup-2025-Doral-Soccer-Club-2.png
END:VEVENT
BEGIN:VEVENT
DTSTART;TZID=America/New_York:20250510T080000
DTEND;TZID=America/New_York:20250511T170000
DTSTAMP:20260421T215955
CREATED:20250509T182426Z
LAST-MODIFIED:20250509T182426Z
UID:12119-1746864000-1746982800@www.doralsoccerclub.com
SUMMARY:The 17th Annual Plan Beach Cup\, May 10 - 11\, 2025
DESCRIPTION:Doral Soccer Club Teams participating\n \nU9 Premier Coach Ramon Gonzalez\nU19 Premier Coach Ramon Gonzalez\n \nSchedule click here\n \n 
URL:https://www.doralsoccerclub.com/event/the-17th-annual-plan-beach-cup-may-10-11-2025/
CATEGORIES:Tournaments
ATTACH;FMTTYPE=image/jpeg:https://www.doralsoccerclub.com/wp-content/uploads/2025/05/Palm-Beach-Cup.jpg
END:VEVENT
BEGIN:VEVENT
DTSTART;TZID=America/New_York:20250503T080000
DTEND;TZID=America/New_York:20250504T170000
DTSTAMP:20260421T215955
CREATED:20250430T142534Z
LAST-MODIFIED:20250430T142534Z
UID:12075-1746259200-1746378000@www.doralsoccerclub.com
SUMMARY:West Pines Soccer Fest May 3 - 4\, 2025
DESCRIPTION:Doral Soccer Club Teams participating\n \nU10 Premier Coach Jesus Adrian Parra\nU12 White Coach Jesus Adrian Parra\n \nSchedules click here
URL:https://www.doralsoccerclub.com/event/west-pines-soccer-fest-may-3-4-2025/
CATEGORIES:Tournaments,Tournaments Slideshow
ATTACH;FMTTYPE=image/png:https://www.doralsoccerclub.com/wp-content/uploads/2025/04/West-Pins-Soccer-Fest-Doral-Soccer-Club.png
END:VEVENT
BEGIN:VEVENT
DTSTART;TZID=America/New_York:20250425T080000
DTEND;TZID=America/New_York:20250427T170000
DTSTAMP:20260421T215955
CREATED:20250422T212844Z
LAST-MODIFIED:20250422T213028Z
UID:11999-1745568000-1745773200@www.doralsoccerclub.com
SUMMARY:South Florida Soccer Cup & Showcase  Pines Crest Premier Cup Naples April 25 - 27\, 2025
DESCRIPTION:Doral Soccer Club Teams participating:\n \nU9 Elite Coach Junior Piraquive\nU10 Elite Coach Carlos Fonseca\nU11 White Coach Junior Piraquive\nU12 White Coach Jesus Adrian Parra\nU13 Premier Coach Ricardo Arzola\nU16 White Coach Ricardo Arzola\n \nSchedule click here\n \n 
URL:https://www.doralsoccerclub.com/event/south-florida-soccer-cup-showcase-pines-crest-premier-cup-naples-april-25-27-2025/
ATTACH;FMTTYPE=image/png:https://www.doralsoccerclub.com/wp-content/uploads/2025/04/outh-Florida-Soccer-Cup-and-Showcase-Pines-Crest-Premier-Cup-Naples.png
END:VEVENT
BEGIN:VEVENT
DTSTART;TZID=America/New_York:20250416T080000
DTEND;TZID=America/New_York:20250419T170000
DTSTAMP:20260421T215955
CREATED:20250416T172246Z
LAST-MODIFIED:20250416T172246Z
UID:11989-1744790400-1745082000@www.doralsoccerclub.com
SUMMARY:5th Annual Easter International Cup April 16- 19\, 2025 Orlando / Kissimmee Florida
DESCRIPTION:Doral Soccer Club teams participating\n \nU11 Elite Coach Antonello Paradiso\n \nSchedules click here\n \n 
URL:https://www.doralsoccerclub.com/event/5th-annual-easter-international-cup-april-16-19-2025-orlando-kissimmee-florida/
CATEGORIES:Tournaments,Tournaments Slideshow
ATTACH;FMTTYPE=image/png:https://www.doralsoccerclub.com/wp-content/uploads/2025/04/EASTERN-INTERNATION-CUP-DORAL-SOCCER.png
END:VEVENT
BEGIN:VEVENT
DTSTART;TZID=America/New_York:20250412T080000
DTEND;TZID=America/New_York:20250413T170000
DTSTAMP:20260421T215955
CREATED:20250407T185854Z
LAST-MODIFIED:20250416T172319Z
UID:11966-1744444800-1744563600@www.doralsoccerclub.com
SUMMARY:2025 Naples Spring Shootout  April 12 - 13\, 2025
DESCRIPTION:Doral Soccer Club \nTeams participating\n \nU8 Elite Coach José Daniel Usme\nU14 Premier Coach José Daniel Usme\n \nSchedule click here
URL:https://www.doralsoccerclub.com/event/2025-naples-spring-shootout-april-12-13-2025/
ATTACH;FMTTYPE=image/png:https://www.doralsoccerclub.com/wp-content/uploads/2025/04/2025-Naples-Spring-Shootout-.png
END:VEVENT
BEGIN:VEVENT
DTSTART;TZID=America/New_York:20250404T080000
DTEND;TZID=America/New_York:20250406T170000
DTSTAMP:20260421T215955
CREATED:20250331T210840Z
LAST-MODIFIED:20250331T211209Z
UID:11954-1743753600-1743958800@www.doralsoccerclub.com
SUMMARY:The 9th Annual Sharks Soccer Cup & Showcase  April 4 - 6\, 2025
DESCRIPTION:Doral Soccer Club Teams participating:\n \nU9 Elite Coach Junior Piraquive\nU9 Premier Coach Ramon Gonzalez\nU10 Premier Coach Jesus Adrian Parra\nU11 Premier Coach Carlos Delgado\nU11 White Coach Junior Piraquive\nU12 Elite Coach Wilfredo Melendez\nU14 Premier Coach Jose Daniel Usme\nU15 Girls Elite Coach Junior Piraquive\nU15 Premier Coach Romulo Garcia\nU16 Premier Coach Ramon Gonzalez\nU17 White Coach Carlos Delgado\n \nSchedules click here\n \n 
URL:https://www.doralsoccerclub.com/event/the-9th-annual-sharks-soccer-cup-showcase-april-4-6-2025/
CATEGORIES:Tournaments,Tournaments Slideshow
ATTACH;FMTTYPE=image/jpeg:https://www.doralsoccerclub.com/wp-content/uploads/2021/03/Sharks-Soccer-Cup-Showcase.jpg
END:VEVENT
BEGIN:VEVENT
DTSTART;TZID=America/New_York:20250228T080000
DTEND;TZID=America/New_York:20250303T170000
DTSTAMP:20260421T215955
CREATED:20250227T182732Z
LAST-MODIFIED:20250227T182732Z
UID:11879-1740729600-1741021200@www.doralsoccerclub.com
SUMMARY:2025 United Soccer Cup - Spring February 28 - March 3\, 2025
DESCRIPTION:Doral Soccer Club Terams participating:\n \nU11 Premier Coach Carlos Delgado\nU17 White Coach Carlos Delgado\n \nSchedules click here\n \n 
URL:https://www.doralsoccerclub.com/event/2025-united-soccer-cup-spring-february-28-march-3-2025/
CATEGORIES:Tournaments
ATTACH;FMTTYPE=image/png:https://www.doralsoccerclub.com/wp-content/uploads/2020/03/United-Soccer-cup-showcase2.png
END:VEVENT
BEGIN:VEVENT
DTSTART;TZID=America/New_York:20250214T080000
DTEND;TZID=America/New_York:20250217T170000
DTSTAMP:20260421T215955
CREATED:20250211T144755Z
LAST-MODIFIED:20250211T173746Z
UID:11836-1739520000-1739811600@www.doralsoccerclub.com
SUMMARY:Weston Cup & Showcase February 14 - 17\, 2025
DESCRIPTION:Doral Soccer Club Teams participating:\n \n\nU8 Elite Coach José Daniel Usme\nU9 Elite Coach Junior Piraquive\nU9 Premier Coach Ramon Gonzalez\nU10 Elite Coach Carlos Fonseca\nU10 Premier Coach Jesus Adrian Parra\nU11 Elite Coach Antonello Paradiso\nU11 Premier Coach Carlos Delgado\nU11 White Coach Junior Piraquive\nU12 Elite Coach Wilfredo Melendez\nU12 Premier Coach Sergio Lopez\nU12 White Coach Jesus Adrian Parra\nU13 ECNL RL Coach Kevin Piraquive\nU13 Elite Coach Daniel Castillo\nU14 ECNL RL Coach Antonello Paradiso\nU14 Elite Coach Sergio Lopez\nU14 Premier Coach José Daniel Usme\nU15 Elite Girls Coach Junior Piraquive\nU15 ECNL RL Coach Juan Sanfiel\nU15 Elite Coach Juan Sanfiel\nU15 Premier Coach Romulo Garcia\nU16 ECNL RL Coach Alfredo Del Toro\nU16 Elite Coach Daniel Castillo\nU16 Premier Coach Ramon Gonzalez\nU17 ECNL RL Coach Kevin Piraquive\nU17 Elite Coach Wilfredo Melendez\nU17 Premier Coach Miguel Heredia\nU17 White Coach Carlos Delgado\nU18 Premier Coach Miguel Heredia\n\nSchedules click here\n 
URL:https://www.doralsoccerclub.com/event/weston-cup-showcase-february-14-17-2025/
CATEGORIES:Tournaments,Tournaments Slideshow
ATTACH;FMTTYPE=image/png:https://www.doralsoccerclub.com/wp-content/uploads/2025/02/Weston-Cup-Showcase.png
END:VEVENT
BEGIN:VEVENT
DTSTART;TZID=America/New_York:20250201T080000
DTEND;TZID=America/New_York:20250202T170000
DTSTAMP:20260421T215955
CREATED:20250128T185512Z
LAST-MODIFIED:20250128T185512Z
UID:11821-1738396800-1738515600@www.doralsoccerclub.com
SUMMARY:The 22nd Annual Dimitri Cup February 1-2\, 2025 Lakewood Ranch\, Florida
DESCRIPTION: \n\n \nDoral Soccer Club Teams participating:\n \nU15 ECNL RL Coach Juan Sanfiel\nU15 Elite Coach Juan Sanfiel\nU15 Premier Coach Romulo Garcia\nU16 ECNL RL Coach Alfredo Del Toro\nU16 Elite Coach Daniel Castillo\nU16 Premier Coach Ramon Gonzalez\n\nU16 White Coach Ricardo Arzola\nU17 ECNL RL Coach Kevin Piraquive\nU17 Elite Coach Wilfredo Melendez\nU17 Premier Coach Miguel Heredia\nU17 White Coach Carlos Delgado\nU19 ECNL RL Coach Alfredo Del Toro\nU19 Elite Coach Romulo Garcia\nU19 Premier Coach Miguel Heredia\n \nSchedules click here\n \n 
URL:https://www.doralsoccerclub.com/event/the-22nd-annual-dimitri-cup-february-1-2-2025-lakewood-ranch-florida/
LOCATION:Lakewood Ranch\, Florida\, 5895 post blvd\, Lakewood Ranch\, FL\, 34211\, United States
CATEGORIES:Tournaments
ATTACH;FMTTYPE=image/jpeg:https://www.doralsoccerclub.com/wp-content/uploads/2020/01/Dimitri-Cup-Doral-Soccer.jpg
END:VEVENT
BEGIN:VEVENT
DTSTART;TZID=America/New_York:20250125T080000
DTEND;TZID=America/New_York:20250126T170000
DTSTAMP:20260421T215955
CREATED:20250123T223430Z
LAST-MODIFIED:20250123T223722Z
UID:11808-1737792000-1737910800@www.doralsoccerclub.com
SUMMARY:The 22nd Annual Dimitri Cup January 25-26\, 2025 Lakewood Ranch\, Florida
DESCRIPTION:Doral Soccer Club Teams participating:\n \nU13 ECNLRL coach Kevin Piraquive\nU13 Elite Coach Daniel Castillo\nU13 Premier Coach Ricardo Arzola\nU14 ECNLRL Coach Antonello Paradiso\nU14 Elite Coach Sergio Lopez\nU14 Premier Coach José Daniel Usme\n \nSchedules click here
URL:https://www.doralsoccerclub.com/event/the-22nd-annual-dimitri-cup-january-25-26-2025-lakewood-ranch-florida/
LOCATION:Lakewood Ranch\, Florida\, 5895 post blvd\, Lakewood Ranch\, FL\, 34211\, United States
CATEGORIES:Tournaments
ATTACH;FMTTYPE=image/jpeg:https://www.doralsoccerclub.com/wp-content/uploads/2020/01/Dimitri-Cup-Doral-Soccer.jpg
END:VEVENT
BEGIN:VEVENT
DTSTART;TZID=America/New_York:20250118T080000
DTEND;TZID=America/New_York:20250120T170000
DTSTAMP:20260421T215955
CREATED:20250114T200435Z
LAST-MODIFIED:20250114T200435Z
UID:11800-1737187200-1737392400@www.doralsoccerclub.com
SUMMARY:Miami Rush Cup January 18-20\, 2025
DESCRIPTION:Doral Soccer Club teams participating;\n \nU13 Elite Coach Daniel Castillo\nU13 Premier Coach Ricardo Arzola\nU15 ECNL Coach Juan Sanfiel\nU15 Elite Coach Juan Sanfiel\n \nSchedule Click here
URL:https://www.doralsoccerclub.com/event/miami-rush-cup-january-18-20-2025/
CATEGORIES:Tournaments
ATTACH;FMTTYPE=image/jpeg:https://www.doralsoccerclub.com/wp-content/uploads/2024/01/Miami-Rush-Kendall.jpg
END:VEVENT
BEGIN:VEVENT
DTSTART;TZID=America/New_York:20250118T080000
DTEND;TZID=America/New_York:20250120T170000
DTSTAMP:20260421T215955
CREATED:20250112T154945Z
LAST-MODIFIED:20250112T154945Z
UID:11794-1737187200-1737392400@www.doralsoccerclub.com
SUMMARY:The 22nd Annual Dimitri Cup January 18-20\, 2025 Lakewood Ranch\, Florida
DESCRIPTION:Doral Soccer Club Teams participating:\n \n\nU8 Elite Coach Jose Daniel Usme\nU9 Elite Coach Beymar “JR” Piraquive\nU9 Premier Coach Ramon Gonzalez\nU10 Elite Coach Carlos Fonseca\nU10 Premier Coach Jesus Adrian Parra\nU11 Elite Coach Antonello Paradiso\nU11 Premier Coach Carlos Delgado\nU11 White Coach Beymar “JR” Piraquive\nU12 Elite Coach Wilfredo Melendez\nU12 Premier Coach Ser4gio Lopez\nU12 White Coach Jesus Adrian Parra\n\n \nSchedules click here\n \n 
URL:https://www.doralsoccerclub.com/event/the-22nd-annual-dimitri-cup-january-18-20-2025-lakewood-ranch-florida/
LOCATION:Lakewood Ranch\, Florida\, 5895 post blvd\, Lakewood Ranch\, FL\, 34211\, United States
CATEGORIES:Tournaments
ATTACH;FMTTYPE=image/jpeg:https://www.doralsoccerclub.com/wp-content/uploads/2020/01/Dimitri-Cup-Doral-Soccer.jpg
END:VEVENT
BEGIN:VEVENT
DTSTART;TZID=America/New_York:20250117T080000
DTEND;TZID=America/New_York:20250120T170000
DTSTAMP:20260421T215955
CREATED:20250114T200246Z
LAST-MODIFIED:20250114T200246Z
UID:11797-1737100800-1737392400@www.doralsoccerclub.com
SUMMARY:18th Annual Wellington Soccer Cup - January 17 -20\, 2025
DESCRIPTION:Doral Soccer Club teams participating\n \nU13 ECNL Coach Kevin Piraquive\nU16 Elite Coach Daniel Castillo\n \nSchedules click here\n \n 
URL:https://www.doralsoccerclub.com/event/18th-annual-wellington-soccer-cup-january-17-20-2025/
CATEGORIES:Tournaments
ATTACH;FMTTYPE=image/png:https://www.doralsoccerclub.com/wp-content/uploads/2025/01/wellingtone-soccer-shootout.png
END:VEVENT
BEGIN:VEVENT
DTSTART;TZID=America/New_York:20241214T080000
DTEND;TZID=America/New_York:20241215T170000
DTSTAMP:20260421T215955
CREATED:20241213T162410Z
LAST-MODIFIED:20241213T162410Z
UID:11763-1734163200-1734282000@www.doralsoccerclub.com
SUMMARY:Homestead Cup - December 14 - 15\, 2024
DESCRIPTION:December 14 – 15\, 2024 \nDoral Soccer Club teams participating\n \nU8 Elite Coach José Daniel Usme\n \nSchedule click here
URL:https://www.doralsoccerclub.com/event/homestead-cup-december-14-15-2024/
CATEGORIES:Tournaments
ATTACH;FMTTYPE=image/png:https://www.doralsoccerclub.com/wp-content/uploads/2024/12/homesteadcup.png
END:VEVENT
BEGIN:VEVENT
DTSTART;TZID=America/New_York:20241213T080000
DTEND;TZID=America/New_York:20241215T170000
DTSTAMP:20260421T215955
CREATED:20241211T192214Z
LAST-MODIFIED:20241211T192236Z
UID:11758-1734076800-1734282000@www.doralsoccerclub.com
SUMMARY:The 5th Annual Springs Holiday Cup
DESCRIPTION:December 13 – 15\, 2024\n \nDoral Soccer Club Teams participating:\n \nU9 Premier Coach Ramon Gonzalez\nU13 ECNLRL Coach Kevin Piraquive\nU13 Elite Coach Daniel Castillo\nU16 Premier Coach Ramon Gonzalez\nU17 Premier Coach Miguel Heredia\nU18-19 ECNLRL Coach Alfredo Del Toro\nU18 Premier Coach Miguel Heredia\n \nSchedules click here\n \n 
URL:https://www.doralsoccerclub.com/event/the-5th-annual-springs-holiday-cup/
CATEGORIES:Tournaments
ATTACH;FMTTYPE=image/png:https://www.doralsoccerclub.com/wp-content/uploads/2023/12/Sprints-Holiday-Cup.png
END:VEVENT
BEGIN:VEVENT
DTSTART;TZID=America/New_York:20241206T080000
DTEND;TZID=America/New_York:20241208T170000
DTSTAMP:20260421T215955
CREATED:20241203T192522Z
LAST-MODIFIED:20241203T192522Z
UID:11733-1733472000-1733677200@www.doralsoccerclub.com
SUMMARY:Miami Classic 2024
DESCRIPTION:December 6 – 8\, 2024\n \n\nDoral Soccer Club Teams participating:\n \nU8 Elite Coach José Daniel Usme\nU9 Elite Coach Beymar “Jr” Piraquive\nU10 Elite Coach Carlos Fonseca\nU10 Premier Coach Jesus Adrian Parra\nU11 Elite Coach Antonello Paradiso\nU11 Premier Coach Carlos Delgado\nU11 White Coach Beymar “Jr” Piraquive\nU12 Elite Coach Wilfredo Melendez\nU12 White Coach Jesus Adrian Parra\nU13 Premier Coach Ricardo Arzola\nU14 ECNLRL Coach Antonello Paradiso\nU14 Elite Coach Sergio Lopez\nU14 Premier Jose Daniel Usme\nU16 White Coach Ricardo Arzola\nU17 White Coach Carlos Delgado\n\n \nSchedule click here
URL:https://www.doralsoccerclub.com/event/miami-classic-2024/
CATEGORIES:Tournaments
ATTACH;FMTTYPE=image/jpeg:https://www.doralsoccerclub.com/wp-content/uploads/2022/12/MIAMI-CLASSIC-transparent.jpg
END:VEVENT
BEGIN:VEVENT
DTSTART;TZID=America/New_York:20241129T080000
DTEND;TZID=America/New_York:20241201T170000
DTSTAMP:20260421T215955
CREATED:20241127T021049Z
LAST-MODIFIED:20241127T021049Z
UID:11731-1732867200-1733072400@www.doralsoccerclub.com
SUMMARY:The 38th Plantation Classic
DESCRIPTION:November 29 – December 1\, 2024 \nDoral soccer Club Team participating:\nU16 White Coach Ricardo Arzola\n \nSchedules
URL:https://www.doralsoccerclub.com/event/the-38th-plantation-classic/
CATEGORIES:Tournaments
ATTACH;FMTTYPE=image/jpeg:https://www.doralsoccerclub.com/wp-content/uploads/2023/11/Thanksgiving-Classic2023.jpg
END:VEVENT
BEGIN:VEVENT
DTSTART;TZID=America/New_York:20241109T080000
DTEND;TZID=America/New_York:20241110T170000
DTSTAMP:20260421T215955
CREATED:20241106T173205Z
LAST-MODIFIED:20241106T173227Z
UID:11707-1731139200-1731258000@www.doralsoccerclub.com
SUMMARY:The Tampa Bay Super Cup - November 9 -10\, 2024
DESCRIPTION:Doral Soccer Club Teams participating\n \nU13 ECNLRL Coach Kevin Piraquive\nU13 Elite Coach Daniel Castillo\nU14 ECNLRL Coach Antonello Paradiso\nU14 Elite Coach Sergio Lopez\nU15 ECNLRL Coach Juan Sanfiel\nU15 Premier Coach Romulo Garcia\nU16 ECNLRL Coach Alfredo Del Toro\nU16 Elite Coach Daniel Castillo\n\nU16 Premier Coach Ramon Gonzalez\nU17 ECNLRL Coach Kevin Piraquive\nU17 Elite Coach Wilfredo Melendez\nU17 Premier Coach Miguel Heredia\nU17 White Coach Carlos Delgado\nU18/19 ECNLRL Coach Alfredo Del Toro\nU18 Elite Coach Romulo Garcia\n\n \nSchedules click here\n \n 
URL:https://www.doralsoccerclub.com/event/the-tampa-bay-super-cup-november-9-10-2024/
CATEGORIES:Tournaments
ATTACH;FMTTYPE=image/png:https://www.doralsoccerclub.com/wp-content/uploads/2024/11/IMG_4403.png
END:VEVENT
BEGIN:VEVENT
DTSTART;TZID=America/New_York:20241108T080000
DTEND;TZID=America/New_York:20241110T170000
DTSTAMP:20260421T215955
CREATED:20241106T173412Z
LAST-MODIFIED:20241106T173526Z
UID:11710-1731052800-1731258000@www.doralsoccerclub.com
SUMMARY:Alliance Cup 2024 - November 8-10\, 2024
DESCRIPTION:Doral Soccer Club Teams participating:\n \nU8 Elite Coach José Daniel Usme\nU14 Premier Coach José Daniel Usme\n \nSchedule click here\n \n 
URL:https://www.doralsoccerclub.com/event/alliance-cup-2024-november-8-10-2024/
CATEGORIES:Tournaments
ATTACH;FMTTYPE=image/png:https://www.doralsoccerclub.com/wp-content/uploads/2024/11/Aliance-Cup-Doral-Soccer-Club.png
END:VEVENT
BEGIN:VEVENT
DTSTART;TZID=America/New_York:20241102T080000
DTEND;TZID=America/New_York:20241103T170000
DTSTAMP:20260421T215955
CREATED:20241102T020926Z
LAST-MODIFIED:20241102T020926Z
UID:11693-1730534400-1730653200@www.doralsoccerclub.com
SUMMARY:The Tampa Bay Super Copa
DESCRIPTION:November 2nd – 3rd 2024\nDoral Soccer Club teams participating\n \nU9 Elite Coach Beymar Jr Piraquive\nU10 Elite Coach Carlos Fonseca\nU10 Premier Coach Jesus Adrián Parra\nU11 Elite Coach Antonello Paradiso\nU11 Premier Coach Carlos Delgado\nU11 White Coach Beymar Jr Piraquive\nU12 Elite Coach Wilfredo Melendez\nU12 Premier Coach Sergio Lopez\n \nSchedules click here
URL:https://www.doralsoccerclub.com/event/the-tampa-bay-super-copa/
CATEGORIES:Tournaments
ATTACH;FMTTYPE=image/png:https://www.doralsoccerclub.com/wp-content/uploads/2024/11/IMG_4403.png
END:VEVENT
BEGIN:VEVENT
DTSTART;TZID=America/New_York:20241025T080000
DTEND;TZID=America/New_York:20241027T170000
DTSTAMP:20260421T215955
CREATED:20241023T155705Z
LAST-MODIFIED:20241023T160019Z
UID:11678-1729843200-1730048400@www.doralsoccerclub.com
SUMMARY:Legends Cup 2024
DESCRIPTION: \nDoral Soccer Club Teams participating:\nU11 Elite Coach Antonello Paradiso\nU11 Premier Coach Carlos Delgado\nU14 Premier Coach José Daniel Usme\nU17 White Coach Carlos Delgado\n \nSchedule click here
URL:https://www.doralsoccerclub.com/event/legends-cup-2024/
CATEGORIES:Tournaments
ATTACH;FMTTYPE=image/jpeg:https://www.doralsoccerclub.com/wp-content/uploads/2024/10/LEGENDS-CUP-MIAMI.jpg
END:VEVENT
BEGIN:VEVENT
DTSTART;TZID=America/New_York:20241018T080000
DTEND;TZID=America/New_York:20241020T170000
DTSTAMP:20260421T215955
CREATED:20241016T193715Z
LAST-MODIFIED:20241016T193715Z
UID:11674-1729238400-1729443600@www.doralsoccerclub.com
SUMMARY:Palm Beach Gardens Classic  2024
DESCRIPTION:October 18 – 20\, 2024\n \nDoral Soccer Club Teams Participating\nU8 Elite Coach Jose Daniel Usme\n \nSchedule click here\n \n 
URL:https://www.doralsoccerclub.com/event/palm-beach-gardens-classic-2024/
CATEGORIES:Tournaments
ATTACH;FMTTYPE=image/png:https://www.doralsoccerclub.com/wp-content/uploads/2024/10/Doral-Soccer-Club-Palm-Beach-Gardens-.png
END:VEVENT
BEGIN:VEVENT
DTSTART;TZID=America/New_York:20241011T080000
DTEND;TZID=America/New_York:20241013T170000
DTSTAMP:20260421T215955
CREATED:20241010T173521Z
LAST-MODIFIED:20241010T173521Z
UID:11671-1728633600-1728838800@www.doralsoccerclub.com
SUMMARY:Soccer Locker Cup 2024
DESCRIPTION:October 11 – 13\, 2024\n \nDoral Soccer Club Teams Participating:\nU17 Premier Coach Miguel Heredia\n \nSchedule click here\n \n 
URL:https://www.doralsoccerclub.com/event/soccer-locker-cup-2024/
CATEGORIES:Tournaments
ATTACH;FMTTYPE=image/png:https://www.doralsoccerclub.com/wp-content/uploads/2022/10/soccer-locker-cup.png
END:VEVENT
BEGIN:VEVENT
DTSTART;TZID=America/New_York:20241004T080000
DTEND;TZID=America/New_York:20241006T170000
DTSTAMP:20260421T215955
CREATED:20241003T025631Z
LAST-MODIFIED:20241004T170450Z
UID:11666-1728028800-1728234000@www.doralsoccerclub.com
SUMMARY:West Pines Kickoff Classic Tournament 2024
DESCRIPTION:October 4 – 6\, 2024\n \nDoral Soccer Club Teams participating\n \nU9 Premier Coach Ramon Gonzalez\nU16 Premier Coach Ramon Gonzalez\n \nSchedule click here\n \n \n \n \n 
URL:https://www.doralsoccerclub.com/event/west-pines-kickoff-classic-tournament-2024/
CATEGORIES:Tournaments
ATTACH;FMTTYPE=image/png:https://www.doralsoccerclub.com/wp-content/uploads/2022/10/WEST-PINES-KICKOFF-LOGO.png
END:VEVENT
BEGIN:VEVENT
DTSTART;TZID=America/New_York:20240920T080000
DTEND;TZID=America/New_York:20240922T170000
DTSTAMP:20260421T215955
CREATED:20240919T160641Z
LAST-MODIFIED:20240919T160641Z
UID:11662-1726819200-1727024400@www.doralsoccerclub.com
SUMMARY:United Soccer Cup (Fall) 2024
DESCRIPTION:September 20 – 22\, 2024\n \nDSC Teams participating\n \n\nU9 – Elite Coach Beymar “Jr” Piraquive\nU13 – Elite Coach Daniel Castillo\n\nU11 – Elite Coach Antonello Paradiso\nU11 – White Coach Beymar “Jr” Piraquive\nU12 – Premier Coach Sergio Lopez\n \n \nSchedule click here\n \n 
URL:https://www.doralsoccerclub.com/event/united-soccer-cup-fall-2024/
CATEGORIES:Tournaments
ATTACH;FMTTYPE=image/png:https://www.doralsoccerclub.com/wp-content/uploads/2024/09/UntdSocCup_logo.png
END:VEVENT
BEGIN:VEVENT
DTSTART;TZID=America/New_York:20240831T080000
DTEND;TZID=America/New_York:20240902T170000
DTSTAMP:20260421T215955
CREATED:20240829T145907Z
LAST-MODIFIED:20240829T150154Z
UID:11651-1725091200-1725296400@www.doralsoccerclub.com
SUMMARY:South Florida Super Cup 2024
DESCRIPTION:2024 South Florida Super Cup – August 31 – September 2\, 2024\n \nTeams participating:\n \nU9 Elite Coach Beymar “Jr” Piraquive\nU12 Elite Coach Wilfredo Melendez\nU12 Premier Coach Sergio Lopez\nU13 Premier Coach Ricardo Arzola\nU14 Elite Coach Sergio Lopez\nU16 White Coach Ricardo Arzola\nU17 Elite Coach Wilfredo Melendez\n \nSchedules click here\n 
URL:https://www.doralsoccerclub.com/event/south-florida-super-cup-2024/
CATEGORIES:Tournaments
ATTACH;FMTTYPE=image/png:https://www.doralsoccerclub.com/wp-content/uploads/2024/08/SouthFloridaSuperCup_Logo_FINAL-1.png
END:VEVENT
BEGIN:VEVENT
DTSTART;TZID=America/New_York:20240524T080000
DTEND;TZID=America/New_York:20240527T170000
DTSTAMP:20260421T215955
CREATED:20240523T222619Z
LAST-MODIFIED:20240523T222824Z
UID:11530-1716537600-1716829200@www.doralsoccerclub.com
SUMMARY:Super Copa Tampa Florida Sportsplex - May 24-27\, 2024
DESCRIPTION:Doral Soccer Club teams participating:\n \n\nU15 ECNL Coach Kevin Piraquive\nU16 ECNL Coach Kevin Piraquive\n\n \nSchedules click here\n \n 
URL:https://www.doralsoccerclub.com/event/super-copa-tampa-florida-sportsplex-may-24-27-2024/
CATEGORIES:Tournaments
ATTACH;FMTTYPE=image/png:https://www.doralsoccerclub.com/wp-content/uploads/2024/05/Super-Copa-Doral-Soccer-Tampa-Florida.png
END:VEVENT
END:VCALENDAR