BEGIN:VCALENDAR
VERSION:2.0
PRODID:-//Doral Soccer Club - ECPv6.15.20//NONSGML v1.0//EN
CALSCALE:GREGORIAN
METHOD:PUBLISH
X-WR-CALNAME:Doral Soccer Club
X-ORIGINAL-URL:https://www.doralsoccerclub.com
X-WR-CALDESC:Events for Doral Soccer Club
REFRESH-INTERVAL;VALUE=DURATION:PT1H
X-Robots-Tag:noindex
X-PUBLISHED-TTL:PT1H
BEGIN:VTIMEZONE
TZID:America/New_York
BEGIN:DAYLIGHT
TZOFFSETFROM:-0500
TZOFFSETTO:-0400
TZNAME:EDT
DTSTART:20210314T070000
END:DAYLIGHT
BEGIN:STANDARD
TZOFFSETFROM:-0400
TZOFFSETTO:-0500
TZNAME:EST
DTSTART:20211107T060000
END:STANDARD
BEGIN:DAYLIGHT
TZOFFSETFROM:-0500
TZOFFSETTO:-0400
TZNAME:EDT
DTSTART:20220313T070000
END:DAYLIGHT
BEGIN:STANDARD
TZOFFSETFROM:-0400
TZOFFSETTO:-0500
TZNAME:EST
DTSTART:20221106T060000
END:STANDARD
BEGIN:DAYLIGHT
TZOFFSETFROM:-0500
TZOFFSETTO:-0400
TZNAME:EDT
DTSTART:20230312T070000
END:DAYLIGHT
BEGIN:STANDARD
TZOFFSETFROM:-0400
TZOFFSETTO:-0500
TZNAME:EST
DTSTART:20231105T060000
END:STANDARD
BEGIN:DAYLIGHT
TZOFFSETFROM:-0500
TZOFFSETTO:-0400
TZNAME:EDT
DTSTART:20240310T070000
END:DAYLIGHT
BEGIN:STANDARD
TZOFFSETFROM:-0400
TZOFFSETTO:-0500
TZNAME:EST
DTSTART:20241103T060000
END:STANDARD
END:VTIMEZONE
BEGIN:VEVENT
DTSTART;TZID=America/New_York:20231117T080000
DTEND;TZID=America/New_York:20231119T170000
DTSTAMP:20260422T181557
CREATED:20231119T145242Z
LAST-MODIFIED:20231119T145458Z
UID:11142-1700208000-1700413200@www.doralsoccerclub.com
SUMMARY:6th Annual FC Delco Fall Showcase
DESCRIPTION:Boys Weekend November 17 -19\, 2023\nDSC Team participating:\nU18 Elite Coach Ricardo Arzola\n \nSchedule click here
URL:https://www.doralsoccerclub.com/event/6th-annual-fc-delco-fall-showcase/
CATEGORIES:Tournaments
ATTACH;FMTTYPE=image/png:https://www.doralsoccerclub.com/wp-content/uploads/2023/11/FC-Delcon.png
END:VEVENT
BEGIN:VEVENT
DTSTART;TZID=America/New_York:20231104T080000
DTEND;TZID=America/New_York:20231105T170000
DTSTAMP:20260422T181557
CREATED:20231031T181331Z
LAST-MODIFIED:20231031T181332Z
UID:11084-1699084800-1699203600@www.doralsoccerclub.com
SUMMARY:The 7th Annual Doral Gold Cup
DESCRIPTION:November 4 – 5\, 2023 Naples Florida \nDSC Teams participating\n \n\nU8 Elite Coach Beymar “Jr” Piraquive\nU9 Elite Coach Carlos Fonseca\nU9 Premier Coach Adrian Parra\nU10 Elite Coach Daniel Castillo \nU10 Premier Coach Neftali Melgar\nU10 White Coach Neftali Melgar\nU11 Elite Coach Ramon Gonzalez\nU11 Premier Coach Sergio Lopez\nU12 Elite Coach Antonello Paradiso\nU12 Premier Coach Daniel Castillo\nU13 ECNL-R Coach Antonello Paradiso\nU13 Elite Coach Sergio Lopez\nU13 Premier Coach Adrian Parra\nU14 Elite Coach Juan Sanfiel\nU14 Premier Coach Romulo Garcia\nU15 ECNL-R Coach Kevin Piraquive\nU15 Elite Coach Alfredo Del Toro\nU15 Premier Coach Beymar “Jr” Piraquive\nU15 White Coach Ramon Gonzalez\nU16 ECNL-R Coach Kevin Piraquive\nU16 Elite Coach Wilfredo Melendez\nU16 Premier Coach Jose Rafael Castillo\nU16 White Coach Carlos Delgado\nU17 ECNL-R Coach Alfredo Del Toro\nU17 Elite Coach Romulo Garcia\nU17 Premier Coach Miguel Heredia\nU18 Premier Coach Ricardo Arzola\nU18/U19 ECNL-R Coach Wilfredo Melendez\n\nSchedules click here \n  \n 
URL:https://www.doralsoccerclub.com/event/the-7th-annual-doral-gold-cup/
CATEGORIES:Tournaments
ATTACH;FMTTYPE=image/png:https://www.doralsoccerclub.com/wp-content/uploads/2022/07/2022-LOGO-DORAL-GOLD-CUP-1.png
END:VEVENT
BEGIN:VEVENT
DTSTART;TZID=America/New_York:20231006T080000
DTEND;TZID=America/New_York:20231008T170000
DTSTAMP:20260422T181557
CREATED:20231006T143804Z
LAST-MODIFIED:20231006T143804Z
UID:11031-1696579200-1696784400@www.doralsoccerclub.com
SUMMARY:Copa Miami Columbus Day - October 6 -8\, 2023
DESCRIPTION:DSC Teams participating\n \nU9 Elite Coach Carlos Fonseca\nU10 Premier Coach Neftali Melgar\nU10 White Coach Neftali Melgar\nU12 Premier Coach Daniel Castillo\nU13 ECNL-R Coach Antonello Paradiso\nU13 Elite Coach Sergio Lopez\nU14 ECNL-R Coach Juan Sanfiel\nU14 Premier Coach Romulo Garcia\nU15 ECNL-R Coach Kevin Piraquive\nU15 Elite Coach Alfredo Del Toro\nU16 ECNL-R Coach Kevin Piraquive\nU16 Elite Coach Wilfredo Melendez\nU16 White Coach Carlos Delgado\nU17 Elite Coach Romulo Garcia\nU17 Premier Coach Miguel Heredia\nU18 Elite Coach Ricardo Arzola\nU18 Premier Coach Ricardo Arzola\nU19 ECNL-R Coach Wilfredo Melendez\n \nSchedule click here
URL:https://www.doralsoccerclub.com/event/copa-miami-columbus-day-october-6-8-2023/
CATEGORIES:Tournaments
ATTACH;FMTTYPE=image/jpeg:https://www.doralsoccerclub.com/wp-content/uploads/2023/10/OCT-7-8.jpg
END:VEVENT
BEGIN:VEVENT
DTSTART;TZID=America/New_York:20230901T080000
DTEND;TZID=America/New_York:20230904T170000
DTSTAMP:20260422T181557
CREATED:20230828T224551Z
LAST-MODIFIED:20230828T225000Z
UID:11018-1693555200-1693846800@www.doralsoccerclub.com
SUMMARY:South Florida Super Cup 2023
DESCRIPTION:September 1-4\, 2023\nDSC Teams Participating: \n\nU9 Elite Coach Carlos Fonseca\nU10 Elite Coach Daniel Castillo\nU15 Premier Coach Junior Piraquive\nU16 Elite Coach Wilfredo Melendez\nU18 Elite Coach Ricardo Arzola\n\n \nSchedules click here
URL:https://www.doralsoccerclub.com/event/south-florida-super-cup-2023/
CATEGORIES:Tournaments
ATTACH;FMTTYPE=image/jpeg:https://www.doralsoccerclub.com/wp-content/uploads/2022/08/SouthFloridaSuperCup_Logo.jpg
END:VEVENT
BEGIN:VEVENT
DTSTART;TZID=America/New_York:20230901T080000
DTEND;TZID=America/New_York:20230903T170000
DTSTAMP:20260422T181557
CREATED:20230831T195454Z
LAST-MODIFIED:20230831T195454Z
UID:11026-1693555200-1693760400@www.doralsoccerclub.com
SUMMARY:The Freedom Cup Tournament September 1-2-3\, 2023
DESCRIPTION:The Freedom Cup Tournament September 1-2-3\, 2023 \nFlorida Blue Training Center Ft.Lauderdale\n1350 NW 55th Street Fort Lauderdale\, Fl 33309\n \nDCS Teams participating\n \nU12 Elite Coach Antonello Paradiso\nU13 ECNL-R Coach Antonello Paradiso\nU14 ECNL-R Coach Juan Sanfiel\n \nSchedule click here\n \n \n 
URL:https://www.doralsoccerclub.com/event/the-freedom-cup-tournament-september-1-2-3-2023/
LOCATION:Florida Blue Training Center Ft.Lauderdale\, 1350 NW 55th Street\, Fort Lauderdale\, FL\, 33309\, United States
CATEGORIES:Tournaments
ATTACH;FMTTYPE=image/jpeg:https://www.doralsoccerclub.com/wp-content/uploads/2023/08/Freedom-Cup-Qualifier-logo.jpg
END:VEVENT
BEGIN:VEVENT
DTSTART;TZID=America/New_York:20230825T080000
DTEND;TZID=America/New_York:20230827T170000
DTSTAMP:20260422T181557
CREATED:20230825T141343Z
LAST-MODIFIED:20230825T142318Z
UID:11014-1692950400-1693155600@www.doralsoccerclub.com
SUMMARY:Davie United Soccer Friendlies 2023
DESCRIPTION:August 25th – 27th\, 2023\n \nBamford Park 3801 S Pine Island Rd\, Davie\, Fl 33328\n \nDSC Teams participating\n \nU10 Elite Coach Daniel Castillo\nU11 Premier Coach Sergio Lopez\nU13 Elite Coach Sergio Lopez\n \nSchedule click here\n \n \n \n \n 
URL:https://www.doralsoccerclub.com/event/davie-united-soccer-friendlies-2023/
CATEGORIES:Tournaments
ATTACH;FMTTYPE=image/png:https://www.doralsoccerclub.com/wp-content/uploads/2023/08/davie-logo.png
END:VEVENT
BEGIN:VEVENT
DTSTART;TZID=America/New_York:20230718T080000
DTEND;TZID=America/New_York:20230720T170000
DTSTAMP:20260422T181557
CREATED:20230714T130814Z
LAST-MODIFIED:20230714T130840Z
UID:10966-1689667200-1689872400@www.doralsoccerclub.com
SUMMARY:National Championships ESPN Wide World of Sports
DESCRIPTION:National Championships ESPN Wide World of Sports\nOrlando Florida\, July 18/19/20 – 2023\n \nDSC Team participating\n \nU16 Elite Coach Cesar Pacheco\n \nSchedules click here\n \n 
URL:https://www.doralsoccerclub.com/event/national-championships-espn-wide-world-of-sports/
CATEGORIES:Tournaments
ATTACH;FMTTYPE=image/png:https://www.doralsoccerclub.com/wp-content/uploads/2023/07/1.png
END:VEVENT
BEGIN:VEVENT
DTSTART;TZID=America/New_York:20230715T080000
DTEND;TZID=America/New_York:20230719T170000
DTSTAMP:20260422T181557
CREATED:20230714T130532Z
LAST-MODIFIED:20230714T131211Z
UID:10963-1689408000-1689786000@www.doralsoccerclub.com
SUMMARY:National Cup XXII Finals 2023
DESCRIPTION:DSC Teams participating\n \nU14 Elite Coach Kevin Piraquive\nU15 Elite Coach Alfredo Del Toro\nU17 Elite Coach Alfredo Del Toro\n \nSchedules click here\n 
URL:https://www.doralsoccerclub.com/event/national-cup-xxii-finals-2023/
CATEGORIES:Tournaments
ATTACH;FMTTYPE=image/png:https://www.doralsoccerclub.com/wp-content/uploads/2023/07/finals-national-cup-boys.png
END:VEVENT
BEGIN:VEVENT
DTSTART;TZID=America/New_York:20230623T080000
DTEND;TZID=America/New_York:20230629T170000
DTSTAMP:20260422T181557
CREATED:20230616T143156Z
LAST-MODIFIED:20230616T143156Z
UID:10911-1687507200-1688058000@www.doralsoccerclub.com
SUMMARY:US Youth Soccer Southern Regional Championship
DESCRIPTION:2023 US Youth Soccer Southern Regional Championship June 23 – June 29 in Baton Rouge. LA \nTeams Participating\n \nU13 Elite Coach Cesar Pacheco\nU14 Elite Coach Kevin Piraquive\nU16 Elite Coach Cesar Pacheco\n \nSchedule click here
URL:https://www.doralsoccerclub.com/event/us-youth-soccer-southern-regional-championship/
CATEGORIES:Tournaments
ATTACH;FMTTYPE=image/png:https://www.doralsoccerclub.com/wp-content/uploads/2023/06/USYS-SOUTHERN-REGIONAL-LOGO.png
END:VEVENT
BEGIN:VEVENT
DTSTART;TZID=America/New_York:20230527T080000
DTEND;TZID=America/New_York:20230529T170000
DTSTAMP:20260422T181557
CREATED:20230522T174844Z
LAST-MODIFIED:20230522T175025Z
UID:10853-1685174400-1685379600@www.doralsoccerclub.com
SUMMARY:Disney Memorial Day Soccer Tournament May 27 - 29\, ESPN Wide World of Sports Complex 2023
DESCRIPTION:DSC Teams participating\n \nU9 Elite Coach Daniel Castillo\nU10 Elite Coach Ramon Gonzalez\nU10 Premier Coach Sergio Lopez\nU11 Elite Coach Antonello Paradiso\nU11 Premier Coach Luis Santofimia\nU12 Elite Coach Antonello Paradiso\nU12 Premier Coach Sergio Lopez\nU16 White Coach Miguel Heredia\nU17 Premier Coach Ricardo Arzola\nU19 Elite Coach Miguel Heredia\n \nSchedules click here
URL:https://www.doralsoccerclub.com/event/disney-memorial-day-soccer-tournament-may-27-29-espn-wide-world-of-sports-complex-2023/
LOCATION:ESPN Wide World of Sports Complex\, 700 S Victory Way\, Orlando\, FL\, 34747\, United States
CATEGORIES:Tournaments
ATTACH;FMTTYPE=image/jpeg:https://www.doralsoccerclub.com/wp-content/uploads/2022/05/Doral-Soccer-Disney-Memorial-Day-Sorrcer-Tournament-copy.jpg
END:VEVENT
BEGIN:VEVENT
DTSTART;TZID=America/New_York:20230526T080000
DTEND;TZID=America/New_York:20230529T170000
DTSTAMP:20260422T181557
CREATED:20230522T175352Z
LAST-MODIFIED:20230522T175614Z
UID:10856-1685088000-1685379600@www.doralsoccerclub.com
SUMMARY:U90 C Sports Super Copa 2023
DESCRIPTION:May 26 – 29\, 2023 – Tampa\, Fl – Sportsplex \nDSC Teams participating\n \nU14 Elite Coach Kevin Piraquive\nU15 Elite Coach Alfredo Del Toro\n \nSchedules click here
URL:https://www.doralsoccerclub.com/event/u90-c-sports-super-copa-2023/
CATEGORIES:Tournaments
ATTACH;FMTTYPE=image/png:https://www.doralsoccerclub.com/wp-content/uploads/2023/05/premier-super-copa-logo.png
END:VEVENT
BEGIN:VEVENT
DTSTART;TZID=America/New_York:20230526T080000
DTEND;TZID=America/New_York:20230529T170000
DTSTAMP:20260422T181557
CREATED:20230522T173256Z
LAST-MODIFIED:20230522T173256Z
UID:10850-1685088000-1685379600@www.doralsoccerclub.com
SUMMARY:Enigma Cup 2023 Memorial Day May 26 - 29
DESCRIPTION:DSC Teams participating\n \nU8 Elite Coach Adrian C. Patino\nU9 Premier Coach Daniel Usme\nU13 Elite Coach Cesar Pacheco\nU13 Premier Coach Juan Sanfiel\nU14 Premier Coach Romulo Garcia\nU14 White Coach Beymar Jr Piraquive\nU15 Premier Coach Juan Sanfiel\nU15 White Coach Wilfredo Melendez\nU15 Blue Coach Daniel Castillo & Carlos Delgado\nU16 Premier Coach Romulo Garcia\nU16 Elite Girls Coach Cesar Pacheco\nU18 Premier Coach Wilfredo Melendez\n \nSchedules click here
URL:https://www.doralsoccerclub.com/event/enigma-cup-2023-memorial-day-may-26-29/
CATEGORIES:Tournaments
ATTACH;FMTTYPE=image/png:https://www.doralsoccerclub.com/wp-content/uploads/2023/05/Enigma-Cup-2023-logo.png
END:VEVENT
BEGIN:VEVENT
DTSTART;TZID=America/New_York:20230519T080000
DTEND;TZID=America/New_York:20230521T170000
DTSTAMP:20260422T181557
CREATED:20230518T195210Z
LAST-MODIFIED:20230518T195302Z
UID:10844-1684483200-1684688400@www.doralsoccerclub.com
SUMMARY:Champions Cup May 19-21\, 2023 Kissimmee\, Florida
DESCRIPTION:DSC Team participating\n \n• U13 Premier Coach Juan Sanfiel\n \nSchedule click here
URL:https://www.doralsoccerclub.com/event/champions-cup-may-19-21-2023-kissimmee-florida/
CATEGORIES:Tournaments
ATTACH;FMTTYPE=image/png:https://www.doralsoccerclub.com/wp-content/uploads/2023/05/Champions-Cup.png
END:VEVENT
BEGIN:VEVENT
DTSTART;TZID=America/New_York:20230512T080000
DTEND;TZID=America/New_York:20230514T170000
DTSTAMP:20260422T181557
CREATED:20230509T150535Z
LAST-MODIFIED:20230509T150805Z
UID:10747-1683878400-1684083600@www.doralsoccerclub.com
SUMMARY:Palm Beach Tournament
DESCRIPTION:15th Annual Palm Beach Cup 2023 • May 12 – 14\, 2023\n\n \nDSC TEAMS PARTICIPATING:\n \nU9 Elite Coach Daniel Castillo\nU13 Premier Coach Juan Sanfiel\nU15 Premier Coach Juan Sanfiel\nU15 White Coach Wilfredo Melendez\nU15 Blue Coach Daniel Castillo\n\n \nSchedule click here\n \n 
URL:https://www.doralsoccerclub.com/event/palm-beach-tournament/
CATEGORIES:Tournaments
ATTACH;FMTTYPE=image/jpeg:https://www.doralsoccerclub.com/wp-content/uploads/2023/05/PALM-BEACH-SOCCER-ACADEMY.jpg
END:VEVENT
BEGIN:VEVENT
DTSTART;TZID=America/New_York:20230429T080000
DTEND;TZID=America/New_York:20230430T170000
DTSTAMP:20260422T181557
CREATED:20230426T022622Z
LAST-MODIFIED:20230426T022622Z
UID:10728-1682755200-1682874000@www.doralsoccerclub.com
SUMMARY:SOUTH FLORIDA Soccer Cup & Showcase
DESCRIPTION:April 29 – April 30\, 2023 Played in Naples  \n  \nDSC Teams participating \nU10 Elite Coach Ramon Gonzalez \nU14 Premier Coach Romulo Garcia \nU16 Premier Coach Romulo Garcia \n  \nSchedules click here \n  \n 
URL:https://www.doralsoccerclub.com/event/south-florida-soccer-cup-showcase/
CATEGORIES:Tournaments
ATTACH;FMTTYPE=image/png:https://www.doralsoccerclub.com/wp-content/uploads/2023/04/sflas_22.png
END:VEVENT
BEGIN:VEVENT
DTSTART;TZID=America/New_York:20230405T080000
DTEND;TZID=America/New_York:20230408T170000
DTSTAMP:20260422T181557
CREATED:20230324T031514Z
LAST-MODIFIED:20230324T031638Z
UID:10596-1680681600-1680973200@www.doralsoccerclub.com
SUMMARY:Easter International Cup
DESCRIPTION:April 5 – 8\, 2023 – Orlando\, Florida \nDSC Teams Participating: \nU13 Elite Coach Cesar Pacheco\nU14 Elite Coach Kevin Piraquive\nU16 Elite Coach Cesar Pacheco\nU18 Elite Coach Kevin Piraquive \nSchedule click here \n  \n \n 
URL:https://www.doralsoccerclub.com/event/easter-international-cup/
CATEGORIES:Tournaments
ATTACH;FMTTYPE=image/png:https://www.doralsoccerclub.com/wp-content/uploads/2023/03/Easter-International-Cup.png
END:VEVENT
BEGIN:VEVENT
DTSTART;TZID=America/New_York:20230401T080000
DTEND;TZID=America/New_York:20230409T170000
DTSTAMP:20260422T181557
CREATED:20230321T214938Z
LAST-MODIFIED:20230321T215009Z
UID:10586-1680336000-1681059600@www.doralsoccerclub.com
SUMMARY:Dallas Cup International Youth Soccer Tournament
DESCRIPTION:April 1 – April 9\, 2023 \nDSC Teams participating: \nU15 Elite • Coach Alfredo Del Toro\nU17 Elite • Coach Alfredo Del Toro \nSchedules click here
URL:https://www.doralsoccerclub.com/event/dallas-cup-international-youth-soccer-tournament/
CATEGORIES:Tournaments
ATTACH;FMTTYPE=image/png:https://www.doralsoccerclub.com/wp-content/uploads/2023/03/Doral-Soccer-Dallas-Cup-2023.png
END:VEVENT
BEGIN:VEVENT
DTSTART;TZID=America/New_York:20230401T080000
DTEND;TZID=America/New_York:20230402T170000
DTSTAMP:20260422T181557
CREATED:20230328T202527Z
LAST-MODIFIED:20230328T202548Z
UID:10601-1680336000-1680454800@www.doralsoccerclub.com
SUMMARY:The Bradenton Cup
DESCRIPTION:April 1-2 / 2023 \nDSC Team Participating: \nU14 White Coach Junior Piraquive \nSchedules click here
URL:https://www.doralsoccerclub.com/event/the-bradenton-cup/
CATEGORIES:Tournaments
ATTACH;FMTTYPE=image/jpeg:https://www.doralsoccerclub.com/wp-content/uploads/2023/03/Bradenton-Cup.jpg
END:VEVENT
BEGIN:VEVENT
DTSTART;TZID=America/New_York:20230331T080000
DTEND;TZID=America/New_York:20230402T170000
DTSTAMP:20260422T181557
CREATED:20230324T030727Z
LAST-MODIFIED:20230324T030756Z
UID:10591-1680249600-1680454800@www.doralsoccerclub.com
SUMMARY:Sharks Soccer Cup & Showcase
DESCRIPTION:March 31 – April 2\, 2023 – Davie\, Florida \nDSC Teams Participating: \nU8 Elite Coach Adrian C. Patiño\nU9 Elite Coach Daniel Castillo\nU10 Elite Cach Ramon Gonzalez\nU10 Premier Coach Sergio Lopez\nU11 Elite Coach Antonello Paradiso\nU11 Premier Coach Luis Santofimia\nU12 Elite Coach Antonello Paradiso\nU12 Premier Coach Sergio Lopez\nU15 White Coach Wilfredo Melendez\nU15 Blue Coach Daniel Castillo\nU18 Premier Coach Wilfredo Melendez\n \nSchedules click here\n \n 
URL:https://www.doralsoccerclub.com/event/sharks-soccer-cup-showcase/
CATEGORIES:Tournaments
ATTACH;FMTTYPE=image/jpeg:https://www.doralsoccerclub.com/wp-content/uploads/2021/03/Sharks-Soccer-Cup-Showcase.jpg
END:VEVENT
BEGIN:VEVENT
DTSTART;TZID=America/New_York:20230318T080000
DTEND;TZID=America/New_York:20230319T170000
DTSTAMP:20260422T181557
CREATED:20230318T014002Z
LAST-MODIFIED:20230318T014143Z
UID:10580-1679126400-1679245200@www.doralsoccerclub.com
SUMMARY:5th Annual Bazooka Soccer
DESCRIPTION:Central Park Plantation Florida\nDSC Team participating: \nU9 Premier Coach Daniel Usme \nSchedule click here
URL:https://www.doralsoccerclub.com/event/5th-annual-bazooka-soccer/
CATEGORIES:Tournaments
ATTACH;FMTTYPE=image/jpeg:https://www.doralsoccerclub.com/wp-content/uploads/2023/03/bazooka-soccer-college-showcase.jpg
END:VEVENT
BEGIN:VEVENT
DTSTART;TZID=America/New_York:20230303T080000
DTEND;TZID=America/New_York:20230305T170000
DTSTAMP:20260422T181557
CREATED:20230302T163650Z
LAST-MODIFIED:20230302T164512Z
UID:10564-1677830400-1678035600@www.doralsoccerclub.com
SUMMARY:United Soccer Cup& Showcase
DESCRIPTION:Davie\, Coral Springs & Plantation\, Florida\n \nDSC Teams Participating:\n \nU8 Elite Coach Adrian C. Patino\nU10 Elite Coach Ramon Gonzalez\nU11 Premier Coach Luis Santofimia\n \nSchedules click here\n \n 
URL:https://www.doralsoccerclub.com/event/united-soccer-cup-showcase/
CATEGORIES:Tournaments,Tournaments Slideshow
ATTACH;FMTTYPE=image/png:https://www.doralsoccerclub.com/wp-content/uploads/2023/03/UntdSocCupShowcase_FINAL.png
END:VEVENT
BEGIN:VEVENT
DTSTART;TZID=America/New_York:20230218T080000
DTEND;TZID=America/New_York:20230220T170000
DTSTAMP:20260422T181557
CREATED:20230213T180221Z
LAST-MODIFIED:20230213T180348Z
UID:10538-1676707200-1676912400@www.doralsoccerclub.com
SUMMARY:2023 Weston Cup & Showcase
DESCRIPTION:February 18 – 20\, 2023 \nDSC Teams participating: \nU8 Elite Coach Adrian C. Patino\nU9 Elite Coach Daniel Castillo\nU10 Elite Coach Ramon Gonzalez\nU10 Premier Coach Sergio Lopez\nU11 Premier Coach Luis Santofimia\nU12 Premier Coach Sergio Lopez\nU13 Elite Coach Cesar Pacheco\nU13 Premier Coach Juan Sanfiel\nU14 Premier Coach Romulo Garcia\nU14 White Coach Junior Piraquive\nU15 Elite Coach Alfredo Del Toro\nU15 Premier Coach Juan Sanfiel\nU15 White Coach Wilfredo Melendez\nU15 Blue Coach Daniel Castillo\nU16 Elite Coach Cesar Pacheco\nU16 Premier Coach Romulo Garcia\nU16 Girls Coach Cesar Pacheco\nU17 Elite Coach Alfredo Del Toro\nU17 Premier Coach Ricardo Arzola\nU18 Premier Coach Wilfredo Melendez\nU19 Elite Coach Miguel Heredia\n \nSchedule click here
URL:https://www.doralsoccerclub.com/event/2023-weston-cup-showcase/
CATEGORIES:Competitive Teams Practice
ATTACH;FMTTYPE=image/jpeg:https://www.doralsoccerclub.com/wp-content/uploads/2023/02/weston-logo.jpg
END:VEVENT
BEGIN:VEVENT
DTSTART;TZID=America/New_York:20230128T080000
DTEND;TZID=America/New_York:20230129T170000
DTSTAMP:20260422T181557
CREATED:20230123T184128Z
LAST-MODIFIED:20230123T184729Z
UID:10475-1674892800-1675011600@www.doralsoccerclub.com
SUMMARY:The Dimitri Cup U14 thru U19 January 28-29\, 2023
DESCRIPTION:Premier Sports Campus 5895 Post Blvd\, Bradenton\, FL 34211\nDSC TEAMS PARTICIPATING: \nU14 Elite Coach Kevin Piraquive\nU14 Premier Coach Romulo Garcia\nU14 White Coach Junior Piraquive\nU15 Elite Coach Alfredo Del Toro\nU15 Premier Coach Juan Sanfiel\nU15 White Coach Wilfredo Melendez\nU15 Blue Coach Daniel Castillo\nU16 Elite Coach Cesar Pacheco\nU16 Premier Coach Romulo Garcia\nU16 White Coach Miguel Heredia\nU17 Elite Coach Alfredo Del Toro\nU17 Premier Coach Ricardo Arzola\nU18 Elite Coach Kevin Piraquive\nU18 Premier Coach Wilfredo Melendez\nU19 Elite Coach Miguel Heredia \nSchedules click here
URL:https://www.doralsoccerclub.com/event/dimitri-cup/
LOCATION:Premier Sports Campus\, 5895 Post Blvd\, Bradenton\, FL\, 34211\, United States
CATEGORIES:Tournaments
ATTACH;FMTTYPE=image/jpeg:https://www.doralsoccerclub.com/wp-content/uploads/2020/01/Dimitri-Cup-Doral-Soccer.jpg
END:VEVENT
BEGIN:VEVENT
DTSTART;TZID=America/New_York:20230121T080000
DTEND;TZID=America/New_York:20230122T170000
DTSTAMP:20260422T181557
CREATED:20230117T153205Z
LAST-MODIFIED:20230117T153617Z
UID:10464-1674288000-1674406800@www.doralsoccerclub.com
SUMMARY:The Dimitri Cup
DESCRIPTION:U8 – U13 January 21 – 22\, 2023\nPremier Sports Campus 5895 Post Blvd\, Bradenton\, Fl 34211\n \nDSC Teams participating:\nU9 Elite Coach Daniel Castillo\nU9 Premier Coach Daniel Usme\nU10 Elite Coach Ramon Gonzalez\nU10 Premier Coach Sergio Lopez\nU11 Elite Coach Antonello Paradiso\nU11 Premier Coach Luis Santofimia\nU12 Elite Coach Antonello Paradiso\nU12 Premier Coach Sergio Lopez\nU13 Elite coach Cesar Pacheco\nU13 Premier Coach Juan Sanfiel \nSchedule click here\n \n \n 
URL:https://www.doralsoccerclub.com/event/the-dimitri-cup/
LOCATION:Premier Sports Campus\, 5895 Post Blvd\, Bradenton\, FL\, 34211\, United States
CATEGORIES:Competitive Teams Practice
ATTACH;FMTTYPE=image/jpeg:https://www.doralsoccerclub.com/wp-content/uploads/2020/01/Dimitri-Cup-Doral-Soccer.jpg
END:VEVENT
BEGIN:VEVENT
DTSTART;TZID=America/New_York:20230114T080000
DTEND;TZID=America/New_York:20230116T170000
DTSTAMP:20260422T181557
CREATED:20230112T015043Z
LAST-MODIFIED:20230112T222242Z
UID:10449-1673683200-1673888400@www.doralsoccerclub.com
SUMMARY:Miami Rush Cup 2023
DESCRIPTION:Jan 14 – 16\, 2022 \nDSC teams participating\n \nU9 Elite Coach Daniel Castillo\nU14 White Coach Junior Piraquive\n \nSchedule click here
URL:https://www.doralsoccerclub.com/event/miami-rush-cup-2023/
CATEGORIES:Competitive Teams Practice
ATTACH;FMTTYPE=image/png:https://www.doralsoccerclub.com/wp-content/uploads/2023/01/Miami-Rush-Soccer-Logo.png
END:VEVENT
BEGIN:VEVENT
DTSTART;TZID=America/New_York:20221216T080000
DTEND;TZID=America/New_York:20221218T170000
DTSTAMP:20260422T181557
CREATED:20221216T155115Z
LAST-MODIFIED:20221216T155115Z
UID:10426-1671177600-1671382800@www.doralsoccerclub.com
SUMMARY:Springs Holiday Cup
DESCRIPTION:Springs Holiday Cup / December 16 -18\, 2022\nCoral Springs\, Florida\n\n \nDSC Teams participating\n \nU13 Premier Coach Juan Sanfiel\nU15 Premier Coach Juan Sanfiel\n \nSchedule click here\n \n 
URL:https://www.doralsoccerclub.com/event/springs-holiday-cup/
CATEGORIES:Tournaments
ATTACH;FMTTYPE=image/png:https://www.doralsoccerclub.com/wp-content/uploads/2022/12/DORAL-SOCER-CLUB.png
END:VEVENT
BEGIN:VEVENT
DTSTART;TZID=America/New_York:20221210T080000
DTEND;TZID=America/New_York:20221211T170000
DTSTAMP:20260422T181557
CREATED:20221208T152414Z
LAST-MODIFIED:20221208T152414Z
UID:10409-1670659200-1670778000@www.doralsoccerclub.com
SUMMARY:The Adobe Cup
DESCRIPTION:December 10-11\, 2022 – Tradewinds Park Coconut Creek\, Florida\n \nDSC Team participating:\nU9 Premier Coach Daniel Usme\n \nSchedules click here
URL:https://www.doralsoccerclub.com/event/the-adobe-cup/
CATEGORIES:Tournaments
ATTACH;FMTTYPE=image/jpeg:https://www.doralsoccerclub.com/wp-content/uploads/2022/12/acoba-cup-ready.jpg
END:VEVENT
BEGIN:VEVENT
DTSTART;TZID=America/New_York:20221210T080000
DTEND;TZID=America/New_York:20221211T170000
DTSTAMP:20260422T181557
CREATED:20221205T204042Z
LAST-MODIFIED:20221207T145205Z
UID:10401-1670659200-1670778000@www.doralsoccerclub.com
SUMMARY:Miami Classic December 10 - 11\, 2022
DESCRIPTION:DSC teams participating\n \nU8 Elite Coach Adrian C. Patino\nU9 Elite Coach Daniel Castillo\nU10 Elite Coach Ramon Gonzalez\nU14 Premier Coach Romulo Garcia\nU15 Blue Coach Daniel Castillo\nU16 White Coach Miguel Heredia\n \nSchedules click here\n 
URL:https://www.doralsoccerclub.com/event/miami-classic-december-10-11-2022/
CATEGORIES:Tournaments
ATTACH;FMTTYPE=image/jpeg:https://www.doralsoccerclub.com/wp-content/uploads/2022/12/MIAMI-CLASSIC-transparent.jpg
END:VEVENT
BEGIN:VEVENT
DTSTART;TZID=America/New_York:20221209T080000
DTEND;TZID=America/New_York:20221211T170000
DTSTAMP:20260422T181557
CREATED:20221208T152114Z
LAST-MODIFIED:20221208T152152Z
UID:10405-1670572800-1670778000@www.doralsoccerclub.com
SUMMARY:Florida Winter Cup & Showcase
DESCRIPTION:December 9th – 11th\, 2022\nLakewood Ranch\, Fl\n \n \nDSC Team participating\nU17 Elite Coach Alfredo Del Toro\n \nSchedules click here
URL:https://www.doralsoccerclub.com/event/florida-winter-cup-showcase/
CATEGORIES:Tournaments
ATTACH;FMTTYPE=image/png:https://www.doralsoccerclub.com/wp-content/uploads/2022/12/Florida-Winter-Cup-Showcase-Final-1-300x278-1.png
END:VEVENT
BEGIN:VEVENT
DTSTART;TZID=America/New_York:20221125T080000
DTEND;TZID=America/New_York:20221127T170000
DTSTAMP:20260422T181557
CREATED:20221124T212741Z
LAST-MODIFIED:20221124T213202Z
UID:10373-1669363200-1669568400@www.doralsoccerclub.com
SUMMARY:36th Plantation Thanksgiving Classic
DESCRIPTION: \nNovember 25 – 27\nDSC teams participating\n \nU8 Elite Coach Adrian Camilo Patino\n\nU13 Premier Coach Juan Sanfiel \n\nSchedule click here
URL:https://www.doralsoccerclub.com/event/36th-plantation-thanksgiving-classic/
CATEGORIES:Tournaments
ATTACH;FMTTYPE=image/jpeg:https://www.doralsoccerclub.com/wp-content/uploads/2022/11/9EFB0D39-0720-448C-9F63-3FC2A35844AE.jpeg
END:VEVENT
END:VCALENDAR