BEGIN:VCALENDAR
VERSION:2.0
PRODID:-//Doral Soccer Club - ECPv6.15.20//NONSGML v1.0//EN
CALSCALE:GREGORIAN
METHOD:PUBLISH
X-WR-CALNAME:Doral Soccer Club
X-ORIGINAL-URL:https://www.doralsoccerclub.com
X-WR-CALDESC:Events for Doral Soccer Club
REFRESH-INTERVAL;VALUE=DURATION:PT1H
X-Robots-Tag:noindex
X-PUBLISHED-TTL:PT1H
BEGIN:VTIMEZONE
TZID:America/New_York
BEGIN:DAYLIGHT
TZOFFSETFROM:-0500
TZOFFSETTO:-0400
TZNAME:EDT
DTSTART:20210314T070000
END:DAYLIGHT
BEGIN:STANDARD
TZOFFSETFROM:-0400
TZOFFSETTO:-0500
TZNAME:EST
DTSTART:20211107T060000
END:STANDARD
BEGIN:DAYLIGHT
TZOFFSETFROM:-0500
TZOFFSETTO:-0400
TZNAME:EDT
DTSTART:20220313T070000
END:DAYLIGHT
BEGIN:STANDARD
TZOFFSETFROM:-0400
TZOFFSETTO:-0500
TZNAME:EST
DTSTART:20221106T060000
END:STANDARD
BEGIN:DAYLIGHT
TZOFFSETFROM:-0500
TZOFFSETTO:-0400
TZNAME:EDT
DTSTART:20230312T070000
END:DAYLIGHT
BEGIN:STANDARD
TZOFFSETFROM:-0400
TZOFFSETTO:-0500
TZNAME:EST
DTSTART:20231105T060000
END:STANDARD
END:VTIMEZONE
BEGIN:VEVENT
DTSTART;TZID=America/New_York:20220413T080000
DTEND;TZID=America/New_York:20220416T170000
DTSTAMP:20260422T183450
CREATED:20220318T013214Z
LAST-MODIFIED:20220411T171511Z
UID:9415-1649836800-1650128400@www.doralsoccerclub.com
SUMMARY:Easter International Soccer Cup
DESCRIPTION:DSC Teams participating:\nU18 Elite Coach Alfredo Del Toro \n \nSchedule click here\n 
URL:https://www.doralsoccerclub.com/event/easter-international-soccer-cup/
CATEGORIES:Tournaments
ATTACH;FMTTYPE=image/png:https://www.doralsoccerclub.com/wp-content/uploads/2022/03/premiersoccercervices.png
END:VEVENT
BEGIN:VEVENT
DTSTART;TZID=America/New_York:20220409T080000
DTEND;TZID=America/New_York:20220410T170000
DTSTAMP:20260422T183450
CREATED:20220328T013943Z
LAST-MODIFIED:20220406T185034Z
UID:9447-1649491200-1649610000@www.doralsoccerclub.com
SUMMARY:Soccer Skills Unlimited  The 9th Annual Bradenton Cup
DESCRIPTION:DSC Teams participating:\nU15 Premier Coach Antonello Paradiso\n \nFor more information click here\n 
URL:https://www.doralsoccerclub.com/event/soccer-skills-unlimited-the-9th-annual-bradenton-cup/
LOCATION:Premier Sports Campus Lakewood Ranch Florida\, 5895 Post Blvd\, Lakewood Ranch\, FL 34211\, Lakewood Ranch\, FL\, 34211\, United States
CATEGORIES:Tournaments
ATTACH;FMTTYPE=image/jpeg:https://www.doralsoccerclub.com/wp-content/uploads/2022/03/The-Bradenton-Cup-Logo.jpg
END:VEVENT
BEGIN:VEVENT
DTSTART;TZID=America/New_York:20220409T080000
DTEND;TZID=America/New_York:20220410T170000
DTSTAMP:20260422T183450
CREATED:20220328T012331Z
LAST-MODIFIED:20220406T185205Z
UID:9442-1649491200-1649610000@www.doralsoccerclub.com
SUMMARY:5th Annual South Florida Spring Invitational Bazzoka Tournament
DESCRIPTION:DSC Teams Participating:\nU14 Blue Coach Daniel Castillo\n \nSchedule click here
URL:https://www.doralsoccerclub.com/event/5th-annual-south-florida-spring-invitational-bazzoka-tournament/
LOCATION:Tradewinds Park\, 3600 W Sample Rd\, Coconut Creek\, FL\, 33066\, United States
CATEGORIES:Tournaments
ATTACH;FMTTYPE=image/jpeg:https://www.doralsoccerclub.com/wp-content/uploads/2022/03/Bazooka-SF-Spring-Soccer-logo.jpg
END:VEVENT
BEGIN:VEVENT
DTSTART;TZID=America/New_York:20220408T080000
DTEND;TZID=America/New_York:20220410T170000
DTSTAMP:20260422T183450
CREATED:20220405T171531Z
LAST-MODIFIED:20220405T172945Z
UID:9484-1649404800-1649610000@www.doralsoccerclub.com
SUMMARY:USYS Florida State Cup
DESCRIPTION:DSC Teams participating:\nU13 Elite Coach Kevin Piraquive\nU14 Elite Coach Alfredo Del Toro\nU14 Premier Coach Juan Sanfiel\nU15 Elite Coach Marcos De Godoy\nU16 Elite Coach Marcos De Godoy\nU17 Elite Coach Kevin Piraquive\n \nSchedules click here
URL:https://www.doralsoccerclub.com/event/usys-florida-state-cup/
LOCATION:Tournament Sportsplex Of Tampa Bay\, 9330 E Columbus Dr\,\, Tampa\, FL\, 33619\, United States
CATEGORIES:Tournaments
ATTACH;FMTTYPE=image/jpeg:https://www.doralsoccerclub.com/wp-content/uploads/2022/04/DORAL-SOCCER-@-USYS-FLORIDA-STATE-CUP-e1649179397376.jpg
END:VEVENT
BEGIN:VEVENT
DTSTART;TZID=America/New_York:20220401T080000
DTEND;TZID=America/New_York:20220403T170000
DTSTAMP:20260422T183450
CREATED:20220329T200411Z
LAST-MODIFIED:20220329T200411Z
UID:9476-1648800000-1649005200@www.doralsoccerclub.com
SUMMARY:Jefferson Cup Boys Showcase 2022
DESCRIPTION:DSC Team participating:\nU17 Elite Coach Kevin Piraquive \n \nSchedules click here\n 
URL:https://www.doralsoccerclub.com/event/jefferson-cup-boys-showcase-2022/
CATEGORIES:Tournaments
ATTACH;FMTTYPE=image/jpeg:https://www.doralsoccerclub.com/wp-content/uploads/2022/03/Jefferson-Cup-Boys.jpg
END:VEVENT
BEGIN:VEVENT
DTSTART;TZID=America/New_York:20220401T080000
DTEND;TZID=America/New_York:20220403T170000
DTSTAMP:20260422T183450
CREATED:20220318T012824Z
LAST-MODIFIED:20220330T204504Z
UID:9412-1648800000-1649005200@www.doralsoccerclub.com
SUMMARY:Clash Of The Champions
DESCRIPTION:DSC Teams participating:\nU14 Elite Coach Alfredo Del Toro\nU18 Elite Coach Alfredo Del Toro\n \nSchedules click here\n \n\n\n\n 
URL:https://www.doralsoccerclub.com/event/clash-of-the-champions/
CATEGORIES:Tournaments
ATTACH;FMTTYPE=image/jpeg:https://www.doralsoccerclub.com/wp-content/uploads/2022/03/Clash-of-the-Champions.jpg
END:VEVENT
BEGIN:VEVENT
DTSTART;TZID=America/New_York:20220401T080000
DTEND;TZID=America/New_York:20220403T170000
DTSTAMP:20260422T183450
CREATED:20220318T004739Z
LAST-MODIFIED:20220329T175526Z
UID:9408-1648800000-1649005200@www.doralsoccerclub.com
SUMMARY:Davie United SC Sharks Soccer Cup
DESCRIPTION:DSC Teams participating:\nU10 Premier Coach Luis Santofimia\nU14 White Coach Wilfredo Melendez\nU15 White Coach Luis Santofimia\n \nSchedules Click here
URL:https://www.doralsoccerclub.com/event/davie-united-sc-sharks-soccer-cup/
CATEGORIES:Tournaments
ATTACH;FMTTYPE=image/jpeg:https://www.doralsoccerclub.com/wp-content/uploads/2022/03/700x.jpg
END:VEVENT
BEGIN:VEVENT
DTSTART;TZID=America/New_York:20220321T083000
DTEND;TZID=America/New_York:20220325T170000
DTSTAMP:20260422T183450
CREATED:20220317T170903Z
LAST-MODIFIED:20220317T172018Z
UID:9401-1647851400-1648227600@www.doralsoccerclub.com
SUMMARY:Spring Camp
DESCRIPTION:Sign-up for this years Spring Camp! Register by downloading the registration form here Please print\, fill-out and return to Doral Soccer Club \n 
URL:https://www.doralsoccerclub.com/event/spring-camp/
LOCATION:Morgan Levy Park\, 5300 NW 102 Ave\, Doral\, FL\, 33178\, United States
CATEGORIES:Camps
ATTACH;FMTTYPE=image/jpeg:https://www.doralsoccerclub.com/wp-content/uploads/2022/02/Spring-Camp-Top-1.jpg
END:VEVENT
END:VCALENDAR